BEGIN:VCALENDAR
VERSION:2.0
PRODID:-//ChamberMaster//Event Calendar 2.0//EN
METHOD:PUBLISH
X-PUBLISHED-TTL:P3D
REFRESH-INTERVAL:P3D
CALSCALE:GREGORIAN
BEGIN:VEVENT
DTSTART:20151121T234500Z
DTEND:20151122T010000Z
X-MICROSOFT-CDO-ALLDAYEVENT:FALSE
SUMMARY:EPCC - 2015 Festival of Lights Parade
DESCRIPTION:Parade of Lights\n\nOne of the great events and traditions of the season and area!\n\nThe parade consists of 30 floats formed entirely of lights.\n\nSome of the favorite floats include the 70-foot long Budweiser Clydesdale horses\, the starship Enterprise and the smoke-puffing Chinese dragon\, among many others.
X-ALT-DESC;FMTTYPE=text/html:Parade of Lights<br />\nOne of the great events and traditions of the season and area!<br />\nThe parade consists of 30 floats formed entirely of lights.<br />\nSome of the favorite floats include the 70-foot long Budweiser Clydesdale horses\, the starship Enterprise and the smoke-puffing Chinese dragon\, among many others.<br />\n&nbsp\;
LOCATION:The parade route starts at the Festival Building in the 2200 block of East Washington Street. It continues to the intersection of Washington and Main St. The parade will turn right onto Main Street and travel to the intersection of Main and Springfield Road (location of CVS Pharmacy). The parade will turn right onto Springfield Road and the floats will be parked on Springfield Road between Taylor Street and Main Street.
UID:e.526.2859
SEQUENCE:3
DTSTAMP:20260424T205031Z
URL:https://business.epcc.org/events/details/epcc-2015-festival-of-lights-parade-11-21-2015-2859
END:VEVENT

END:VCALENDAR
