BEGIN:VCALENDAR
VERSION:2.0
PRODID:-//ChamberMaster//Event Calendar 2.0//EN
METHOD:PUBLISH
X-PUBLISHED-TTL:P3D
REFRESH-INTERVAL:P3D
CALSCALE:GREGORIAN
BEGIN:VEVENT
DTSTART:20151125T180000Z
DTEND:20151127T223000Z
X-MICROSOFT-CDO-ALLDAYEVENT:FALSE
SUMMARY:EPCC - 2015 Office closed
DESCRIPTION:The East Peoria Chamber of Commerce will close at Noon on Wednesday\, November 25th and reopen at 8 am on Monday\, November 30th.
X-ALT-DESC;FMTTYPE=text/html:The East Peoria Chamber of Commerce will close at Noon on Wednesday\, November 25th and reopen at 8 am on Monday\, November 30th.
LOCATION:
UID:e.526.2874
SEQUENCE:3
DTSTAMP:20260424T204737Z
URL:https://business.epcc.org/events/details/epcc-2015-office-closed-11-25-2015-2874
END:VEVENT

END:VCALENDAR
