BEGIN:VCALENDAR
VERSION:2.0
PRODID:-//ChamberMaster//Event Calendar 2.0//EN
METHOD:PUBLISH
X-PUBLISHED-TTL:P3D
REFRESH-INTERVAL:P3D
CALSCALE:GREGORIAN
BEGIN:VEVENT
DTSTART:20150612T170000Z
DTEND:20150612T173000Z
X-MICROSOFT-CDO-ALLDAYEVENT:FALSE
SUMMARY:EPCC - 2015 Ribbon Cutting - Corey North State Farm agent
DESCRIPTION:Please join us for the Ribbon Cutting at the new location of Corey North's new office.
X-ALT-DESC;FMTTYPE=text/html:Please join us for the Ribbon Cutting at the new location of Corey North&#39\;s new office.
LOCATION:22955 Grosenbach Road Washington\, IL. 61571
UID:e.526.1670
SEQUENCE:3
DTSTAMP:20260425T032919Z
URL:https://business.epcc.org/events/details/epcc-2015-ribbon-cutting-corey-north-state-farm-agent-06-12-2015-1670
END:VEVENT

END:VCALENDAR
