BEGIN:VCALENDAR
VERSION:2.0
PRODID:-//ChamberMaster//Event Calendar 2.0//EN
METHOD:PUBLISH
X-PUBLISHED-TTL:P3D
REFRESH-INTERVAL:P3D
CALSCALE:GREGORIAN
BEGIN:VEVENT
DTSTART:20151126T110000Z
DTEND:20151231T150000Z
X-MICROSOFT-CDO-ALLDAYEVENT:FALSE
SUMMARY:EPCC - 2015 Winter Wonderland
DESCRIPTION:Celebrate the holidays with a million sparkles of excitement during the 31st annual East Peoria Festival of Lights. One of the largest lighted nighttime festivals in the nation.  Activities\, dates\, times and locations can be found in the 2015 Festival Guide. This year will feature the return of some favorite displays from the past 31 years.\n\n\n\nFestival of Lights Guides are available at various locations.\n\nContact the EPCC office at 309-699-6212 for a free copy\n\nFor a list of FOL guide sponsors\, please click here.
X-ALT-DESC;FMTTYPE=text/html:<div>Celebrate the holidays with a million sparkles of excitement during the 31st annual East Peoria Festival of Lights. One of the largest lighted nighttime festivals in the nation. &nbsp\;Activities\, dates\, times and locations can be found in the 2015 Festival Guide.&nbsp\;This year will feature the return of some favorite displays from the past 31 years.<br />\n<br />\nFestival of Lights Guides are available at various locations.<br />\nContact the EPCC office at&nbsp\;309-699-6212 for a free copy<br />\nFor a list of FOL guide sponsors\, please <a href="http://www.epcc.org/pages/fol-guide-sponsors?_ga=1.93767773.1164844551.1428529125">click here</a>.<br />\n&nbsp\;</div>\n
LOCATION:Fon du Lac Park District's VFW Post 2078 Park off Springfield Road 123 Par 3 Lane East Peoria\, IL.
UID:e.526.2858
SEQUENCE:3
DTSTAMP:20260424T192145Z
URL:https://business.epcc.org/events/details/epcc-2015-winter-wonderland-11-26-2015-2858
END:VEVENT

END:VCALENDAR
