BEGIN:VCALENDAR
VERSION:2.0
PRODID:-//ChamberMaster//Event Calendar 2.0//EN
METHOD:PUBLISH
X-PUBLISHED-TTL:P3D
REFRESH-INTERVAL:P3D
CALSCALE:GREGORIAN
BEGIN:VEVENT
DTSTART:20160623T180000Z
DTEND:20160623T220000Z
X-MICROSOFT-CDO-ALLDAYEVENT:FALSE
SUMMARY:EPCC - 2016 Annual Golf Classic
DESCRIPTION:Form a team and hit the links for a good time and good cause! The annual outing attracts over 100 golfers\, includes food and prizes\, and offers an active day with fellow Chamber members and their guests.\n\n\n\nProceeds from the outing support the Terry Brewer Memorial Scholarship and the East Peoria Chamber of Commerce Business Scholarship\, awarded annually to two East Peoria Community High School students.\n\n\n\nAll golfers that registered by Noon on May 23rd will receive a golf polo.\n\n\n\nRegistration is now closed. Thank you. \n\n\n\n\n\n500 GRAND MASTERS\n\n        -Foursome golf\, 2 carts\, 8 Grand Raffle tickets\, hole sponsorship with signage\, recognition in the golf program and at awards ceremony.\n\n\n\n$400 MASTERS\n\n        -Foursome golf\, 2 carts\, 4 Grand Raffle tickets\, recognition at awards ceremony\n\n\n\n$340 FOURSOME\n\n        -2 Carts\n\n\n\n$100 HOLE SPONSORSHIP\n\n        -Yard sign at designated hole\, program recognition\, distribution of promotional items at sponsored hole optional.\n\n\n\n$85 INDIVIDUAL\n\n        -Will be assigned to a foursome\, includes golf cart
X-ALT-DESC;FMTTYPE=text/html:Form a team and hit the links for a good time and good cause! The annual outing attracts over 100 golfers\, includes food and prizes\, and offers an active day with fellow Chamber members and their guests.<br />\n<br />\nProceeds from the outing support the Terry Brewer Memorial Scholarship and the East Peoria Chamber of Commerce Business Scholarship\, awarded annually to two East Peoria Community High School students.<br />\n<br />\n<em><strong><span style="color: rgb(255\, 0\, 0)\;">All golfers that registered by Noon on&nbsp\;May 23rd will receive a golf polo.<br />\n<br />\nRegistration is now closed. Thank you.&nbsp\;</span></strong></em><br />\n<br />\n<br />\n<strong><u>500 GRAND MASTERS</u></strong><br />\n&nbsp\;&nbsp\;&nbsp\;&nbsp\;&nbsp\;&nbsp\;&nbsp\;&nbsp\;-Foursome golf\, 2 carts\, 8&nbsp\;Grand Raffle tickets\,&nbsp\;hole sponsorship with&nbsp\;signage\, recognition in the golf program and at awards ceremony.<br />\n<br />\n<u><strong>$400 MASTERS</strong></u><br />\n&nbsp\;&nbsp\;&nbsp\;&nbsp\;&nbsp\;&nbsp\;&nbsp\;&nbsp\;-Foursome golf\, 2 carts\, 4&nbsp\;Grand Raffle tickets\, recognition at awards&nbsp\;ceremony<br />\n<br />\n<u><strong>$340 FOURSOME</strong></u><br />\n&nbsp\;&nbsp\;&nbsp\;&nbsp\;&nbsp\;&nbsp\;&nbsp\;&nbsp\;-2 Carts<br />\n<br />\n<u><strong>$100 HOLE SPONSORSHIP</strong></u><br />\n&nbsp\;&nbsp\;&nbsp\;&nbsp\;&nbsp\;&nbsp\;&nbsp\;&nbsp\;-Yard sign at designated hole\, program recognition\,&nbsp\;distribution of&nbsp\;promotional items at sponsored hole optional.<br />\n<br />\n<u><strong>$85 INDIVIDUAL</strong></u><br />\n&nbsp\;&nbsp\;&nbsp\;&nbsp\;&nbsp\;&nbsp\;&nbsp\;&nbsp\;-Will be assigned to a foursome\, includes golf cart<br />\n&nbsp\;
LOCATION:Quail Meadows Golf Course 2215 Centennial Drive East Peoria\, IL 61611
UID:e.526.2941
SEQUENCE:3
DTSTAMP:20260424T110604Z
URL:https://business.epcc.org/events/details/epcc-2016-annual-golf-classic-06-23-2016-2941
END:VEVENT

END:VCALENDAR
