BEGIN:VCALENDAR
VERSION:2.0
PRODID:-//ChamberMaster//Event Calendar 2.0//EN
METHOD:PUBLISH
X-PUBLISHED-TTL:P3D
REFRESH-INTERVAL:P3D
CALSCALE:GREGORIAN
BEGIN:VEVENT
DTSTART:20160922T220000Z
DTEND:20160923T000000Z
X-MICROSOFT-CDO-ALLDAYEVENT:FALSE
SUMMARY:EPCC - 2016 Business After Hours September
DESCRIPTION:Peoria Brick Company will be hosting this month's Business After Hours. Please join us and the Peoria Chamber of Commerce for prize drawings for gift certificates\, appetizers\, beverages\, networking and a wood-fired pizza bar. Check out Peoria Brick Company's showroom for ideas for your patio or backyard entertainment.
X-ALT-DESC;FMTTYPE=text/html:Peoria Brick Company will be hosting this month&#39\;s&nbsp\;Business After Hours. Please join us and the Peoria Chamber of Commerce for&nbsp\;prize drawings for gift certificates\, appetizers\, beverages\, networking and a wood-fired pizza bar.&nbsp\;Check out Peoria Brick Company&#39\;s showroom for ideas for your patio or backyard entertainment.
LOCATION:1720 E. Carlar Ct. Mossville\, IL. 61552
UID:e.526.3138
SEQUENCE:3
DTSTAMP:20260422T201232Z
URL:https://business.epcc.org/events/details/epcc-2016-business-after-hours-september-09-22-2016-3138
END:VEVENT

END:VCALENDAR
