BEGIN:VCALENDAR
VERSION:2.0
PRODID:-//ChamberMaster//Event Calendar 2.0//EN
METHOD:PUBLISH
X-PUBLISHED-TTL:P3D
REFRESH-INTERVAL:P3D
CALSCALE:GREGORIAN
BEGIN:VEVENT
DTSTART:20160304T130000Z
DTEND:20160304T150000Z
X-MICROSOFT-CDO-ALLDAYEVENT:FALSE
SUMMARY:EPCC - 2016 Eggs & Issues March
DESCRIPTION:State of the City presented by East Peoria Mayor Dave Mingus and the East Peoria City Commissioners.
X-ALT-DESC;FMTTYPE=text/html:State of the City presented by East Peoria Mayor Dave Mingus and the East Peoria City Commissioners.
LOCATION:Par A Dice Hotel 21 Blackjack Blvd East Peoria\, Il 61611
UID:e.526.3007
SEQUENCE:3
DTSTAMP:20260424T152201Z
URL:https://business.epcc.org/events/details/epcc-2016-eggs-issues-march-03-04-2016-3007
END:VEVENT

END:VCALENDAR
