BEGIN:VCALENDAR
VERSION:2.0
PRODID:-//ChamberMaster//Event Calendar 2.0//EN
METHOD:PUBLISH
X-PUBLISHED-TTL:P3D
REFRESH-INTERVAL:P3D
CALSCALE:GREGORIAN
BEGIN:VEVENT
DTSTART:20161006T210000Z
DTEND:20161007T000000Z
X-MICROSOFT-CDO-ALLDAYEVENT:FALSE
SUMMARY:EPCC - 2016 EPCC Premiere Business Expo
DESCRIPTION:East Peoria Chamber of Commerce's Business Expo is a great way to showcase your business. Business leaders from a wide variety of organizations attend this annual event\, making this the best place to get in touch with potential clients.  Participating companies have included small businesses\, non-profits\, and some of the area's largest employers.     \n\n    We will also have a "mini taste of East Peoria" again this year.  Greg Batton will be our Emcee and will come to your booth and announce if you have a drawing.    \n\n    THIS YEAR'S THEME IS A GERMAN OKTOBERFEST! German-themed decorations\, costumes\, snacks\, food and beverages are encouraged.    \n\n    If you have special requests\, ie.\, against the wall\, oversized display\, etc\, please note that in the comments when you register. \n\nWe will try to accommodate all requests.       \n\n* All exhibitors must sign and return an Identification Form.\n\n* CHAMBER MEMBERS ONLY!!\n\nScroll down to see a current list of the vendors that are signed up to participate!
X-ALT-DESC;FMTTYPE=text/html:<div style="color: gray\;">\n<div>&nbsp\;&nbsp\;&nbsp\;&nbsp\;<span style="color: rgb(0\, 0\, 0)\;">East Peoria Chamber of Commerce&#39\;s Business Expo&nbsp\;is a great way to showcase your business.&nbsp\;Business leaders from a wide variety of organizations attend this annual event\, making this the best place to get in touch with potential clients.&nbsp\;&nbsp\;Participating companies have included small businesses\, non-profits\,&nbsp\;and&nbsp\;some of the area&rsquo\;s largest employers.&nbsp\;</span>&nbsp\;&nbsp\;&nbsp\;&nbsp\;<br />\n&nbsp\;&nbsp\;&nbsp\;&nbsp\;<span style="color: rgb(0\, 0\, 0)\;">We will also have a &quot\;mini taste of East Peoria&quot\; again this year.&nbsp\; Greg Batton will be our Emcee and will come to your booth and announce&nbsp\;if you have a drawing.</span>&nbsp\;&nbsp\;&nbsp\;&nbsp\;<br />\n&nbsp\;&nbsp\;&nbsp\;&nbsp\;<span style="color: rgb(139\, 69\, 19)\;"><strong><em>THIS YEAR&#39\;S THEME IS A&nbsp\;GERMAN OKTOBERFEST! German-themed decorations\, costumes\, snacks\, food and beverages are encouraged.</em></strong></span>&nbsp\;&nbsp\;&nbsp\;&nbsp\;<br />\n&nbsp\;&nbsp\;&nbsp\;&nbsp\;<em><span style="color: rgb(0\, 0\, 0)\;">If you have special requests\, ie.\, against the wall\, oversized display\, etc\, <strong>please&nbsp\;note that in the comments when you register</strong>.&nbsp\;<br />\nWe will try to accommodate all requests.&nbsp\;&nbsp\;</span>&nbsp\;</em><strong><em>&nbsp\;&nbsp\;&nbsp\;&nbsp\;</em></strong><br />\n<span style="color: rgb(0\, 0\, 0)\;">* All exhibitors must sign and return an Identification Form.</span><br />\n* CHAMBER MEMBERS ONLY!!<br />\n<em><strong><span style="color: rgb(178\, 34\, 34)\;">Scroll down to see a&nbsp\;current list of the vendors that are signed up to participate!</span> </strong></em></div>\n</div>\n
LOCATION:Par-A-Dice Hotel 21 Blackjack Blvd. East Peoria\, IL. 61611
UID:e.526.3147
SEQUENCE:3
DTSTAMP:20260422T200729Z
URL:https://business.epcc.org/events/details/epcc-2016-epcc-premiere-business-expo-10-06-2016-3147
END:VEVENT

END:VCALENDAR
