BEGIN:VCALENDAR
VERSION:2.0
PRODID:-//ChamberMaster//Event Calendar 2.0//EN
METHOD:PUBLISH
X-PUBLISHED-TTL:P3D
REFRESH-INTERVAL:P3D
CALSCALE:GREGORIAN
BEGIN:VEVENT
DTSTART:20160919T130000Z
DTEND:20161014T140000Z
X-MICROSOFT-CDO-ALLDAYEVENT:FALSE
SUMMARY:EPCC - 2016 Festival of Lights Guide
DESCRIPTION:Celebrate the holidays with a million sparkles of excitement during the 32nd\n\nannual East Peoria Festival of Lights. One of the largest lighted nighttime festivals in the nation.  Activities\, dates\, times and locations can be found in the 2016 Festival Guide. Over 30\,000 copies are printed and distributed throughout the community\, area businesses and high-traffic locations each year. Purchase your ad space or sponsorship package today!\n\n \n\nSponsorship packages include:\n\nAd space in the FOLEPI guide\n\nSponsor sign at float in Winter Wonderland\n\nCompany name on entrance banner to Winter Wonderland\n\nCompany logo on websites (Chamber & City of East Peoria)\n\nComplimentary admission tickets\n\n\n\nFOLEPI guide - Ad only\n\nContact EP Chamber office at 699-6212\n\n\n\nWinter Wonderland - Float only\n\nContact Doug McCarty at 309-427-7762\n\n\n\nSponsorship information\n\nBlank FOL Sponsorship form\n\nBlank Ad-only FOL form
X-ALT-DESC;FMTTYPE=text/html:<div>Celebrate the holidays with a million sparkles of excitement during the 32nd<br />\nannual East Peoria Festival of Lights. One of the largest lighted nighttime festivals in the nation. &nbsp\;Activities\, dates\, times and locations can be found in the 2016 Festival Guide.&nbsp\;Over 30\,000 copies&nbsp\;are printed and distributed throughout the community\, area businesses and high-traffic locations each year.&nbsp\;Purchase your ad space or sponsorship package today!<br />\n&nbsp\;</div>\n\n<div><strong>Sponsorship packages include:</strong><br />\nAd space in the FOLEPI guide<br />\nSponsor sign at float in Winter Wonderland<br />\nCompany name on entrance banner to&nbsp\;Winter&nbsp\;Wonderland<br />\nCompany logo on websites (Chamber &amp\; City of East Peoria)<br />\nComplimentary admission tickets<br />\n<br />\n<strong>FOLEPI guide - Ad only</strong><br />\nContact EP Chamber office at 699-6212<br />\n<br />\n<strong>Winter Wonderland - Float only</strong><br />\nContact&nbsp\;Doug McCarty at 309-427-7762<br />\n<br />\n<a href="https://chambermaster.blob.core.windows.net/userfiles/UserFiles/chambers/526/File/2016FOLSponsorshipLevelsandPackages.pdf">Sponsorship information</a><br />\n<a href="https://chambermaster.blob.core.windows.net/userfiles/UserFiles/chambers/526/File/BlankFOLEPISponsorshipform.pdf">Blank FOL Sponsorship form</a><br />\n<a href="https://chambermaster.blob.core.windows.net/userfiles/UserFiles/chambers/526/File/BlankFOLEPIAd-onlyform.pdf">Blank Ad-only FOL form</a><br />\n&nbsp\;</div>\n
LOCATION:FOLEPI's Winter Wonderland Narrated Nativity Scene FOLEPI's Freedom Park Joseph & the Amazing Technicolor Dreamcoat at Eastlight Theatre Festival of Lights Holiday Cruise on the Spirit of Peoria Historic Holiday Traditions at Doering House.
UID:e.526.3262
SEQUENCE:3
DTSTAMP:20260422T183619Z
URL:https://business.epcc.org/events/details/epcc-2016-festival-of-lights-guide-3262
END:VEVENT

END:VCALENDAR
