BEGIN:VCALENDAR
VERSION:2.0
PRODID:-//ChamberMaster//Event Calendar 2.0//EN
METHOD:PUBLISH
X-PUBLISHED-TTL:P3D
REFRESH-INTERVAL:P3D
CALSCALE:GREGORIAN
BEGIN:VEVENT
DTSTART:20161109T130000Z
DTEND:20161109T150000Z
X-MICROSOFT-CDO-ALLDAYEVENT:FALSE
SUMMARY:EPCC - 2016 Leadership School
DESCRIPTION:The East Peoria Chamber of Commerce Leadership School offers a unique opportunity to enhance leadership skills and network with other business people in the area. The school provides engaging\, educational and leadership skill development opportunities for individuals who\, in turn\, give back to the business\, civic and service needs of the communities in which they live and work. Participants will:\n\n	Develop tactical leadership skills beyond those they currently possess\;\n	Expand their knowledge and understanding of the East Peoria community.\n\nThe school meets weekly on Wednesday mornings starting Sept. 14.\n\nSessions begin at 6:45 a.m. with a continental breakfast. The program begins at 7 a.m. and concludes by 9 a.m.\n\nThe school concludes with graduation and group presentations at the Chamber's Eggs and Issues on Friday\, December 2\, at the Par-A-Dice Hotel.\n\n\n\nDeadline to register is September 9th. \n\n\n\nParticipation guidelines: A participant will get the most of his/her leadership school experience by actively participating in each session. Participants will be required to work on a small-group project at scheduled times during class and outside of class. Participants should plan to spend 2 hours each week in class and 1-3 hours to commit to school tasks and small group meetings to work on the project.
X-ALT-DESC;FMTTYPE=text/html:The&nbsp\;East Peoria Chamber of Commerce Leadership School offers a&nbsp\;unique&nbsp\;opportunity to enhance&nbsp\;leadership skills and&nbsp\;network with other business people in the area. The school provides engaging\, educational and leadership skill development opportunities for individuals who\, in turn\, give back to the business\, civic and service needs of the communities in which they live and work. Participants will:\n<ul>\n	<li>Develop tactical leadership skills beyond those they currently possess\;</li>\n	<li>Expand their knowledge and understanding of the East Peoria community.</li>\n</ul>\nThe school meets weekly on Wednesday mornings starting Sept. 14.<br />\nSessions begin at 6:45 a.m. with a continental breakfast. The program begins at 7 a.m. and concludes by 9 a.m.<br />\nThe school concludes with graduation and group presentations at the Chamber&#39\;s Eggs and Issues on Friday\, December 2\, at the Par-A-Dice Hotel.<br />\n<br />\n<span style="color: rgb(255\, 0\, 0)\;">Deadline to register is September 9th. </span><br />\n<br />\n<span style="color: rgb(0\, 0\, 0)\;">Participation guidelines: A participant will get the most of his/her leadership school experience by actively participating in each session. Participants will be required to work on a small-group project at scheduled times during class and outside of class. Participants should plan to spend 2 hours each week in class and 1-3 hours to commit to school tasks and small group meetings to work on the project.</span><br />\n<br />\n<br />\n&nbsp\;
LOCATION:Fondulac Room (2nd Floor) Clock Tower Bank Building 201 Clock Tower Drive East Peoria\, IL 61611
UID:e.526.2951
SEQUENCE:3
DTSTAMP:20260422T170230Z
URL:https://business.epcc.org/events/details/epcc-2016-leadership-school-11-09-2016-2951
END:VEVENT

END:VCALENDAR
