BEGIN:VCALENDAR
VERSION:2.0
PRODID:-//ChamberMaster//Event Calendar 2.0//EN
METHOD:PUBLISH
X-PUBLISHED-TTL:P3D
REFRESH-INTERVAL:P3D
CALSCALE:GREGORIAN
BEGIN:VEVENT
DTSTART:20160105T163000Z
DTEND:20160105T164000Z
X-MICROSOFT-CDO-ALLDAYEVENT:FALSE
SUMMARY:EPCC - 2016 Ribbon Cutting - Jason's Deli
DESCRIPTION:Please join us at Jason's Deli for their Ribbon Cutting event!
X-ALT-DESC;FMTTYPE=text/html:Please join us at Jason&#39\;s Deli for their Ribbon Cutting event!
LOCATION:Jason's Deli 112 Spinder Drive East Peoria\, IL. 61611
UID:e.526.2927
SEQUENCE:3
DTSTAMP:20260424T192216Z
URL:https://business.epcc.org/events/details/epcc-2016-ribbon-cutting-jason-s-deli-01-05-2016-2927
END:VEVENT

END:VCALENDAR
