BEGIN:VCALENDAR
VERSION:2.0
PRODID:-//ChamberMaster//Event Calendar 2.0//EN
METHOD:PUBLISH
X-PUBLISHED-TTL:P3D
REFRESH-INTERVAL:P3D
CALSCALE:GREGORIAN
BEGIN:VEVENT
DTSTART:20160220T030000Z
DTEND:20160220T033000Z
X-MICROSOFT-CDO-ALLDAYEVENT:FALSE
SUMMARY:EPCC - 2016 Ribbon Cutting - Xfinity
DESCRIPTION:You are cordially invited\n\nto join us for the\n\nRibbon Cutting and Grand Opening\n\nof our\n\nNew XFINITY Store in East Peoria\, Illinois\n\nRibbon Cutting Ceremony\n\nFriday\, February 19\, 2016 9:00 am to 9:45 am\n\n \n\n426 West Washington St.\, East Peoria\, IL 61611\n\n  \n\nGrand Opening Celebration\n\nFriday & Saturday\, February 19 & 20\, 2016\n\n        Live Radio Broadcast\n\n        Refreshments\n\n        Prizes\, Give-a-Ways and more on both days!
X-ALT-DESC;FMTTYPE=text/html:<span style="font-size: 26pt\;"><span style="font-family: segoe script\,sans-serif\;">You are cordially invited</span></span><br />\n<span style="font-size: 26pt\;"><span style="font-family: segoe script\,sans-serif\;">to join us for the</span></span><br />\n<span style="font-size: 26pt\;"><span style="font-family: segoe script\,sans-serif\;">Ribbon Cutting and Grand Opening</span></span><br />\n<span style="font-size: 26pt\;"><span style="font-family: segoe script\,sans-serif\;">of our</span></span><br />\n<span style="font-size: 26pt\;"><span style="font-family: segoe script\,sans-serif\;">New XFINITY Store in East Peoria\, Illinois</span></span><br />\n<strong><u><span style="font-size: 18pt\;"><span style="color: red\;"><span style="font-family: calibri\;">Ribbon Cutting Ceremony</span></span></span></u></strong><br />\n<strong><span style="font-size: 18pt\;"><span style="color: red\;"><span style="font-family: calibri\;">Friday\, February 19\, 2016 9:00 am to 9:45 am</span></span></span></strong><br />\n&nbsp\;<br />\n<strong><span style="font-size: 22pt\;"><span style="font-family: calibri\;">426 West Washington St.\, East Peoria\, IL 61611</span></span></strong><br />\n&nbsp\;&nbsp\;<br />\n<span style="font-family: calibri\;"><strong><u><span style="font-size: 18pt\;"><span style="color: red\;">Grand Opening Celebration</span></span></u></strong></span><br />\n<strong><span style="font-size: 18pt\;"><span style="color: red\;"><span style="font-family: calibri\;">Friday &amp\; Saturday\, February 19 &amp\; 20\, 2016</span></span></span></strong><br />\n<span style="font-size: 16pt\;"><span style="font-family: symbol\;">&middot\;</span></span>&nbsp\;&nbsp\;&nbsp\;&nbsp\;&nbsp\;&nbsp\; <span style="font-size: 16pt\;"><span style="font-family: times new roman\;">Live Radio Broadcast</span></span><br />\n<span style="font-size: 16pt\;"><span style="font-family: symbol\;">&middot\;</span></span>&nbsp\;&nbsp\;&nbsp\;&nbsp\;&nbsp\;&nbsp\; <span style="font-size: 16pt\;"><span style="font-family: times new roman\;">Refreshments</span></span><br />\n<span style="font-size: 16pt\;"><span style="font-family: symbol\;">&middot\;</span></span>&nbsp\;&nbsp\;&nbsp\;&nbsp\;&nbsp\;&nbsp\; <span style="font-size: 16pt\;"><span style="font-family: times new roman\;">Prizes\, Give-a-Ways and more on both days!</span></span><br />\n&nbsp\;
LOCATION:426 W. Washington St. East Peoria\, IL. 61611
UID:e.526.2957
SEQUENCE:3
DTSTAMP:20260424T165958Z
URL:https://business.epcc.org/events/details/epcc-2016-ribbon-cutting-xfinity-02-19-2016-2957
END:VEVENT

END:VCALENDAR
