BEGIN:VCALENDAR
VERSION:2.0
PRODID:-//ChamberMaster//Event Calendar 2.0//EN
METHOD:PUBLISH
X-PUBLISHED-TTL:P3D
REFRESH-INTERVAL:P3D
CALSCALE:GREGORIAN
BEGIN:VEVENT
DTSTART:20160817T130000Z
DTEND:20160817T140000Z
X-MICROSOFT-CDO-ALLDAYEVENT:FALSE
SUMMARY:EPCC - 2016 Seminar - Facebook for Business
DESCRIPTION:Facebook is the most prevalent and fastest growing marketing medium available to small businesses today. With 1.59 billion active users on a monthly basis worldwide\, Facebook has become impossible to ignore.  Join the East Peoria Chamber of Commerce and PJ Star Media on Wednesday\, August 17\, 2016 to gain insight into the key fundamentals necessary to begin utilizing Facebook for your business today!\n\n \n\nLearn about:\n\n\n	Business page design\n	Writing compelling posts\n	How to get high consumer engagement\n	Gaining advocates\n	Reputation management\n	Advertising campaign objectives\n	Deciphering your page and advertising analytics
X-ALT-DESC;FMTTYPE=text/html:<div style="background: rgb(255\, 255\, 255)\; font: 14px/18.2px &quot\;Trebuchet MS&quot\;\, Helvetica\, sans-serif\; margin: 0px\; padding: 0px\; border-radius: 0px\; border: currentColor\; border-image: 100% 1 0\; left: auto\; top: auto\; width: auto\; height: auto\; text-align: justify\; right: auto\; bottom: auto\; color: rgb(68\, 68\, 68)\; text-transform: none\; text-indent: 0px\; letter-spacing: normal\; overflow: visible\; clear: none\; text-decoration: none\; word-spacing: 0px\; vertical-align: baseline\; float: none\; display: block\; white-space: normal\; visibility: inherit\; border-collapse: separate\; position: static\; z-index: auto\; table-layout: auto\; direction: inherit\; -ms-word-break: inherit\; -ms-text-justify: inherit\; -ms-word-wrap: inherit\; -ms-text-overflow: clip\; max-height: none\; max-width: none\; content: normal\; box-sizing: content-box\; empty-cells: show\; font-size-adjust: none\; font-stretch: normal\; opacity: 1\; box-shadow: none\; resize: none\; outline-offset: 0px\; -webkit-text-stroke-width: 0px\;">Facebook is the most prevalent and fastest growing marketing medium available to small businesses today. With 1.59 billion active users on a monthly basis worldwide\, Facebook has become impossible to ignore.&nbsp\; Join the East Peoria Chamber of Commerce and PJ Star Media on Wednesday\,&nbsp\;August 17\,&nbsp\;2016 to gain insight into the key fundamentals necessary to begin utilizing Facebook for your business today!<br style="background: none\; font: inherit\; margin: 0px\; padding: 0px\; border-radius: 0px\; border: currentColor\; border-image: 100% 1 0\; left: auto\; top: auto\; width: auto\; height: auto\; text-align: inherit\; right: auto\; bottom: auto\; color: inherit\; text-transform: inherit\; text-indent: inherit\; letter-spacing: inherit\; overflow: visible\; clear: none\; text-decoration: none\; word-spacing: inherit\; vertical-align: baseline\; float: none\; display: inline\; white-space: inherit\; visibility: inherit\; border-collapse: separate\; position: static\; z-index: auto\; table-layout: auto\; direction: inherit\; -ms-word-break: inherit\; -ms-text-justify: inherit\; -ms-word-wrap: inherit\; -ms-text-overflow: clip\; max-height: none\; max-width: none\; content: normal\; box-sizing: content-box\; empty-cells: show\; font-size-adjust: inherit\; font-stretch: inherit\; opacity: 1\; resize: none\; outline-offset: 0px\;" />\n&nbsp\;</div>\n\n<div style="background: rgb(255\, 255\, 255)\; font: 14px/18.2px &quot\;Trebuchet MS&quot\;\, Helvetica\, sans-serif\; margin: 0px\; padding: 0px\; border-radius: 0px\; border: currentColor\; border-image: 100% 1 0\; left: auto\; top: auto\; width: auto\; height: auto\; text-align: justify\; right: auto\; bottom: auto\; color: rgb(68\, 68\, 68)\; text-transform: none\; text-indent: 0px\; letter-spacing: normal\; overflow: visible\; clear: none\; text-decoration: none\; word-spacing: 0px\; vertical-align: baseline\; float: none\; display: block\; white-space: normal\; visibility: inherit\; border-collapse: separate\; position: static\; z-index: auto\; table-layout: auto\; direction: inherit\; -ms-word-break: inherit\; -ms-text-justify: inherit\; -ms-word-wrap: inherit\; -ms-text-overflow: clip\; max-height: none\; max-width: none\; content: normal\; box-sizing: content-box\; empty-cells: show\; font-size-adjust: none\; font-stretch: normal\; opacity: 1\; box-shadow: none\; resize: none\; outline-offset: 0px\; -webkit-text-stroke-width: 0px\;">Learn about:</div>\n\n<ul style="background: rgb(255\, 255\, 255)\; font: 14px/18.2px &quot\;Trebuchet MS&quot\;\, Helvetica\, sans-serif\; margin: 1em 0px\; padding: 0px 0px 0px 40px\; border-radius: 0px\; border: currentColor\; border-image: 100% 1 0\; left: auto\; top: auto\; width: auto\; height: auto\; text-align: left\; right: auto\; bottom: auto\; color: rgb(68\, 68\, 68)\; text-transform: none\; text-indent: 0px\; letter-spacing: normal\; overflow: visible\; clear: none\; text-decoration: none\; word-spacing: 0px\; vertical-align: baseline\; float: none\; display: block\; white-space: normal\; visibility: inherit\; border-collapse: separate\; position: static\; z-index: auto\; table-layout: auto\; direction: inherit\; -ms-word-break: inherit\; -ms-text-justify: inherit\; -ms-word-wrap: inherit\; -ms-text-overflow: clip\; max-height: none\; max-width: none\; content: normal\; box-sizing: content-box\; empty-cells: show\; font-size-adjust: none\; font-stretch: normal\; opacity: 1\; box-shadow: none\; resize: none\; outline-offset: 0px\; -webkit-text-stroke-width: 0px\;">\n	<li style="background: none\; font: inherit\; margin: 0px\; padding: 0px\; border-radius: 0px\; border: currentColor\; border-image: 100% 1 0\; left: auto\; top: auto\; width: auto\; height: auto\; text-align: justify\; right: auto\; bottom: auto\; color: inherit\; text-transform: inherit\; text-indent: inherit\; letter-spacing: inherit\; overflow: visible\; clear: none\; text-decoration: none\; word-spacing: inherit\; vertical-align: baseline\; float: none\; display: list-item\; white-space: inherit\; visibility: inherit\; border-collapse: separate\; position: static\; z-index: auto\; table-layout: auto\; direction: inherit\; -ms-word-break: inherit\; -ms-text-justify: inherit\; -ms-word-wrap: inherit\; -ms-text-overflow: clip\; max-height: none\; max-width: none\; content: normal\; box-sizing: content-box\; empty-cells: show\; font-size-adjust: inherit\; font-stretch: inherit\; opacity: 1\; box-shadow: none\; resize: none\; outline-offset: 0px\;">Business page design</li>\n	<li style="background: none\; font: inherit\; margin: 0px\; padding: 0px\; border-radius: 0px\; border: currentColor\; border-image: 100% 1 0\; left: auto\; top: auto\; width: auto\; height: auto\; text-align: justify\; right: auto\; bottom: auto\; color: inherit\; text-transform: inherit\; text-indent: inherit\; letter-spacing: inherit\; overflow: visible\; clear: none\; text-decoration: none\; word-spacing: inherit\; vertical-align: baseline\; float: none\; display: list-item\; white-space: inherit\; visibility: inherit\; border-collapse: separate\; position: static\; z-index: auto\; table-layout: auto\; direction: inherit\; -ms-word-break: inherit\; -ms-text-justify: inherit\; -ms-word-wrap: inherit\; -ms-text-overflow: clip\; max-height: none\; max-width: none\; content: normal\; box-sizing: content-box\; empty-cells: show\; font-size-adjust: inherit\; font-stretch: inherit\; opacity: 1\; box-shadow: none\; resize: none\; outline-offset: 0px\;">Writing compelling posts</li>\n	<li style="background: none\; font: inherit\; margin: 0px\; padding: 0px\; border-radius: 0px\; border: currentColor\; border-image: 100% 1 0\; left: auto\; top: auto\; width: auto\; height: auto\; text-align: justify\; right: auto\; bottom: auto\; color: inherit\; text-transform: inherit\; text-indent: inherit\; letter-spacing: inherit\; overflow: visible\; clear: none\; text-decoration: none\; word-spacing: inherit\; vertical-align: baseline\; float: none\; display: list-item\; white-space: inherit\; visibility: inherit\; border-collapse: separate\; position: static\; z-index: auto\; table-layout: auto\; direction: inherit\; -ms-word-break: inherit\; -ms-text-justify: inherit\; -ms-word-wrap: inherit\; -ms-text-overflow: clip\; max-height: none\; max-width: none\; content: normal\; box-sizing: content-box\; empty-cells: show\; font-size-adjust: inherit\; font-stretch: inherit\; opacity: 1\; box-shadow: none\; resize: none\; outline-offset: 0px\;">How to get high consumer engagement</li>\n	<li style="background: none\; font: inherit\; margin: 0px\; padding: 0px\; border-radius: 0px\; border: currentColor\; border-image: 100% 1 0\; left: auto\; top: auto\; width: auto\; height: auto\; text-align: justify\; right: auto\; bottom: auto\; color: inherit\; text-transform: inherit\; text-indent: inherit\; letter-spacing: inherit\; overflow: visible\; clear: none\; text-decoration: none\; word-spacing: inherit\; vertical-align: baseline\; float: none\; display: list-item\; white-space: inherit\; visibility: inherit\; border-collapse: separate\; position: static\; z-index: auto\; table-layout: auto\; direction: inherit\; -ms-word-break: inherit\; -ms-text-justify: inherit\; -ms-word-wrap: inherit\; -ms-text-overflow: clip\; max-height: none\; max-width: none\; content: normal\; box-sizing: content-box\; empty-cells: show\; font-size-adjust: inherit\; font-stretch: inherit\; opacity: 1\; box-shadow: none\; resize: none\; outline-offset: 0px\;">Gaining advocates</li>\n	<li style="background: none\; font: inherit\; margin: 0px\; padding: 0px\; border-radius: 0px\; border: currentColor\; border-image: 100% 1 0\; left: auto\; top: auto\; width: auto\; height: auto\; text-align: justify\; right: auto\; bottom: auto\; color: inherit\; text-transform: inherit\; text-indent: inherit\; letter-spacing: inherit\; overflow: visible\; clear: none\; text-decoration: none\; word-spacing: inherit\; vertical-align: baseline\; float: none\; display: list-item\; white-space: inherit\; visibility: inherit\; border-collapse: separate\; position: static\; z-index: auto\; table-layout: auto\; direction: inherit\; -ms-word-break: inherit\; -ms-text-justify: inherit\; -ms-word-wrap: inherit\; -ms-text-overflow: clip\; max-height: none\; max-width: none\; content: normal\; box-sizing: content-box\; empty-cells: show\; font-size-adjust: inherit\; font-stretch: inherit\; opacity: 1\; box-shadow: none\; resize: none\; outline-offset: 0px\;">Reputation management</li>\n	<li style="background: none\; font: inherit\; margin: 0px\; padding: 0px\; border-radius: 0px\; border: currentColor\; border-image: 100% 1 0\; left: auto\; top: auto\; width: auto\; height: auto\; text-align: justify\; right: auto\; bottom: auto\; color: inherit\; text-transform: inherit\; text-indent: inherit\; letter-spacing: inherit\; overflow: visible\; clear: none\; text-decoration: none\; word-spacing: inherit\; vertical-align: baseline\; float: none\; display: list-item\; white-space: inherit\; visibility: inherit\; border-collapse: separate\; position: static\; z-index: auto\; table-layout: auto\; direction: inherit\; -ms-word-break: inherit\; -ms-text-justify: inherit\; -ms-word-wrap: inherit\; -ms-text-overflow: clip\; max-height: none\; max-width: none\; content: normal\; box-sizing: content-box\; empty-cells: show\; font-size-adjust: inherit\; font-stretch: inherit\; opacity: 1\; box-shadow: none\; resize: none\; outline-offset: 0px\;">Advertising campaign objectives</li>\n	<li style="background: none\; font: inherit\; margin: 0px\; padding: 0px\; border-radius: 0px\; border: currentColor\; border-image: 100% 1 0\; left: auto\; top: auto\; width: auto\; height: auto\; text-align: justify\; right: auto\; bottom: auto\; color: inherit\; text-transform: inherit\; text-indent: inherit\; letter-spacing: inherit\; overflow: visible\; clear: none\; text-decoration: none\; word-spacing: inherit\; vertical-align: baseline\; float: none\; display: list-item\; white-space: inherit\; visibility: inherit\; border-collapse: separate\; position: static\; z-index: auto\; table-layout: auto\; direction: inherit\; -ms-word-break: inherit\; -ms-text-justify: inherit\; -ms-word-wrap: inherit\; -ms-text-overflow: clip\; max-height: none\; max-width: none\; content: normal\; box-sizing: content-box\; empty-cells: show\; font-size-adjust: inherit\; font-stretch: inherit\; opacity: 1\; box-shadow: none\; resize: none\; outline-offset: 0px\;">Deciphering your page and advertising analytics</li>\n</ul>\n
LOCATION:201 Clock Tower Drive 2nd floor - Fondulac Room East Peoria\, IL. 61611
UID:e.526.3230
SEQUENCE:3
DTSTAMP:20260422T212156Z
URL:https://business.epcc.org/events/details/epcc-2016-seminar-facebook-for-business-3230
END:VEVENT

END:VCALENDAR
