BEGIN:VCALENDAR
VERSION:2.0
PRODID:-//ChamberMaster//Event Calendar 2.0//EN
METHOD:PUBLISH
X-PUBLISHED-TTL:P3D
REFRESH-INTERVAL:P3D
CALSCALE:GREGORIAN
BEGIN:VEVENT
DTSTART:20160908T163000Z
DTEND:20160908T180000Z
X-MICROSOFT-CDO-ALLDAYEVENT:FALSE
SUMMARY:EPCC - 2016 Seminar - "Nothing Happens Until the Meeting is Set"
DESCRIPTION:In this seminar\, you will learn a 5 step process to effectively arrange a meeting. Presented by John McKee\, author\, with Prairie Tech Alliance. John has 26 years of Business Development experience with 25\,000 sales meetings and has worked for Fortune 500 companies such as Motorola\, Pitney Bowes\, Sprint and Frontier.
X-ALT-DESC;FMTTYPE=text/html:<div style="background: rgb(255\, 255\, 255)\; font: 14px/18.2px &quot\;Trebuchet MS&quot\;\, Helvetica\, sans-serif\; margin: 0px\; padding: 0px\; border-radius: 0px\; border: currentColor\; border-image: 100% 1 0\; left: auto\; top: auto\; width: auto\; height: auto\; text-align: justify\; right: auto\; bottom: auto\; color: rgb(68\, 68\, 68)\; text-transform: none\; text-indent: 0px\; letter-spacing: normal\; overflow: visible\; clear: none\; text-decoration: none\; word-spacing: 0px\; vertical-align: baseline\; float: none\; display: block\; white-space: normal\; visibility: inherit\; border-collapse: separate\; position: static\; z-index: auto\; table-layout: auto\; direction: inherit\; -ms-word-break: inherit\; -ms-text-justify: inherit\; -ms-word-wrap: inherit\; -ms-text-overflow: clip\; max-height: none\; max-width: none\; content: normal\; box-sizing: content-box\; empty-cells: show\; font-size-adjust: none\; font-stretch: normal\; opacity: 1\; box-shadow: none\; resize: none\; outline-offset: 0px\; -webkit-text-stroke-width: 0px\;">In this seminar\, you will learn a 5 step process to effectively arrange a meeting. Presented by John McKee\, author\,&nbsp\;with Prairie Tech&nbsp\;Alliance. John has 26 years of Business Development experience with 25\,000 sales meetings and has worked for Fortune 500 companies such as Motorola\, Pitney Bowes\, Sprint and Frontier.</div>\n
LOCATION:201 Clock Tower Drive 2nd floor - Fondulac Room East Peoria\, IL. 61611
UID:e.526.3231
SEQUENCE:3
DTSTAMP:20260422T201232Z
URL:https://business.epcc.org/events/details/epcc-2016-seminar-nothing-happens-until-the-meeting-is-set-3231
END:VEVENT

END:VCALENDAR
