BEGIN:VCALENDAR
VERSION:2.0
PRODID:-//ChamberMaster//Event Calendar 2.0//EN
METHOD:PUBLISH
X-PUBLISHED-TTL:P3D
REFRESH-INTERVAL:P3D
CALSCALE:GREGORIAN
BEGIN:VEVENT
DTSTART:20171019T220000Z
DTEND:20171020T000000Z
X-MICROSOFT-CDO-ALLDAYEVENT:FALSE
SUMMARY:EPCC - 2017 Business After Hours October
DESCRIPTION:Join us on October 19 for lots of prizes\, entertainment\, and fun at Business After Hours hosted by CT Gabbert Remodeling & Construction!
X-ALT-DESC;FMTTYPE=text/html:<span style="color: rgb(75\, 79\, 86)\; font-family: Helvetica\, Arial\, sans-serif\; font-size: 14px\;">Join us on October 19 for lots of prizes\, entertainment\, and fun at Business After Hours hosted by CT Gabbert Remodeling &amp\; Construction!</span>
LOCATION:C.T. Gabbert Remodeling & Construction 1323 SW Adams Street Peoria\, IL 61602
UID:e.526.4334
SEQUENCE:3
DTSTAMP:20260422T013334Z
URL:https://business.epcc.org/events/details/epcc-2017-business-after-hours-october-4334
END:VEVENT

END:VCALENDAR
