BEGIN:VCALENDAR
VERSION:2.0
PRODID:-//ChamberMaster//Event Calendar 2.0//EN
METHOD:PUBLISH
X-PUBLISHED-TTL:P3D
REFRESH-INTERVAL:P3D
CALSCALE:GREGORIAN
BEGIN:VEVENT
DTSTART:20170918T130000Z
DTEND:20171013T140000Z
X-MICROSOFT-CDO-ALLDAYEVENT:FALSE
SUMMARY:EPCC - 2017 Festival of Lights Guide
DESCRIPTION:Celebrate the holidays with a million sparkles of excitement during the 33rd\n\nannual East Peoria Festival of Lights. One of the largest lighted nighttime festivals in the nation.  Activities\, dates\, times and locations can be found in the 2017 Festival Guide. Over 30\,000 copies are printed and distributed throughout the community\, area businesses and high-traffic locations each year. Purchase your ad space or sponsorship package today!\n\n \n\nSponsorship packages include:\n\nAd space in the FOLEPI guide\n\nSponsor sign at float in Winter Wonderland\n\nCompany name on entrance banner to Winter Wonderland\n\nCompany logo on websites (Chamber & City of East Peoria)\n\nComplimentary admission tickets\n\n\n\nFOLEPI guide - Ad only\n\nContact EP Chamber office at 699-6212\n\n\n\nCommitment and ad proof due by October 13\, 2017. \n\n\n\nClick Here for sponsorship forms\n\nClick Here for ad only form
X-ALT-DESC;FMTTYPE=text/html:<div>Celebrate the holidays with a million sparkles of excitement during the 33rd<br />\nannual East Peoria Festival of Lights. One of the largest lighted nighttime festivals in the nation. &nbsp\;Activities\, dates\, times and locations can be found in the 2017 Festival Guide.&nbsp\;Over 30\,000 copies&nbsp\;are printed and distributed throughout the community\, area businesses and high-traffic locations each year.&nbsp\;Purchase your ad space or sponsorship package today!<br />\n&nbsp\;</div>\n\n<div><strong>Sponsorship packages include:</strong><br />\nAd space in the FOLEPI guide<br />\nSponsor sign at float in Winter Wonderland<br />\nCompany name on entrance banner to&nbsp\;Winter&nbsp\;Wonderland<br />\nCompany logo on websites (Chamber &amp\; City of East Peoria)<br />\nComplimentary admission tickets<br />\n<br />\n<strong>FOLEPI guide - Ad only</strong><br />\nContact EP Chamber office at 699-6212<br />\n<br />\n<span style="color: rgb(255\, 0\, 0)\;"><strong><span style="background-color: rgb(255\, 255\, 0)\;">Commitment and ad proof due by October 13\, 2017. </span></strong></span><br />\n<br />\n<a href="https://chambermaster.blob.core.windows.net/userfiles/UserFiles/chambers/526/File/FOLsponsorshipform-updated9-20-17.pdf"><span style="color: rgb(255\, 0\, 0)\;">Click Here</span></a> for sponsorship forms<br />\n<a href="https://chambermaster.blob.core.windows.net/userfiles/UserFiles/chambers/526/File/Adonly.pdf"><span style="color: rgb(255\, 0\, 0)\;">Click Here</span></a> for ad only form</div>\n
LOCATION:FOLEPI's Winter Wonderland Narrated Nativity Scene FOLEPI's Freedom Park Joseph & the Amazing Technicolor Dreamcoat at Eastlight Theatre Festival of Lights Holiday Cruise on the Spirit of Peoria Historic Holiday Traditions at Doering House.
UID:e.526.3768
SEQUENCE:3
DTSTAMP:20260422T014016Z
URL:https://business.epcc.org/events/details/epcc-2017-festival-of-lights-guide-3768
END:VEVENT

END:VCALENDAR
