BEGIN:VCALENDAR
VERSION:2.0
PRODID:-//ChamberMaster//Event Calendar 2.0//EN
METHOD:PUBLISH
X-PUBLISHED-TTL:P3D
REFRESH-INTERVAL:P3D
CALSCALE:GREGORIAN
BEGIN:VEVENT
DTSTART:20171012T170000Z
DTEND:20171012T171000Z
X-MICROSOFT-CDO-ALLDAYEVENT:FALSE
SUMMARY:EPCC - 2017 Ribbon Cutting - Camp St. Trail
DESCRIPTION:Please join us for a ribbon cutting to celebrate the grand opening of the Camp Street Trail.\n\nWe will be meeting on the trail near the intersection of Spinder and Camp Street.\n\nParking will be behind McDonald's or Crust in the Levee District.\n\n\n	Funded through $250\,000 grant administered by the Illinois Department of Natural Resources (IDNR) via the federally-funded Recreational Trails Program\n	The program is an 80%/20% split between the funds through IDNR and the City\n	The trail consists of at least six inch thick concrete throughout to ensure its longevity and to minimize maintenance.  \n	The trail is not in a straight line in order to increase visual interest and opportunities for landscaping and sculpture to be placed during future phases.  \n	In concert with the River Trail of Illinois and recently constructed bridges at Spinder and Clock Tower\, this new trail creates an over 1 mile long recreational loop for residents and visitors to enjoy.\n	This new trail now offers a safe means of travel for walkers and cyclists\, alike\, in that it will offer separate facilities from Main Street to Clock Tower with pedestrian-friendly connections to destinations along Camp Street as well as the Levee District.\n\nCity of East Peoria staff wishes to thank the East PeoriA City Council for their continued support of these projects\, the IDNR for its funding and support\, Stark Excavating and PA Atherton for their timely and expedient work on the project as well as Patrick Meyer & Associates.
X-ALT-DESC;FMTTYPE=text/html:<h4><span style="font-family: comic sans ms\;">Please join us for&nbsp\;a ribbon cutting to celebrate the grand opening of the Camp Street Trail.<br />\nWe will be meeting on the trail near the intersection of Spinder and Camp Street.<br />\nParking will be behind McDonald&#39\;s or Crust in the Levee District.</span></h4>\n\n<ul>\n	<li><span style="font-size: medium\;"><span style="font-family: calibri\;"><span style="font-size: medium\;"><span style="font-family: calibri\;">Funded through $250\,000 grant administered by the Illinois Department of Natural Resources (IDNR) via the federally-funded Recreational Trails Program</span></span></span></span></li>\n	<li><span style="font-size: medium\;"><span style="font-family: calibri\;">The program is an 80%/20% split between the funds through IDNR and the City</span></span></li>\n	<li><span style="font-size: medium\;"><span style="font-family: calibri\;">The trail consists of at least six inch thick concrete throughout to ensure its longevity and to minimize maintenance.&nbsp\; </span></span></li>\n	<li><span style="font-size: medium\;"><span style="font-family: calibri\;">The trail is not in a straight line in order to increase visual interest and opportunities for landscaping and sculpture to be placed during future phases.&nbsp\; </span></span></li>\n	<li><span style="font-size: medium\;"><span style="font-family: calibri\;">In concert with the River Trail of Illinois and recently constructed bridges at Spinder and Clock Tower\, this new trail creates an over 1 mile long recreational loop for residents and visitors to enjoy.</span></span></li>\n	<li><span style="font-size: medium\;"><span style="font-family: calibri\;">This new trail now offers a safe means of travel for walkers and cyclists\, alike\, in that it will offer separate facilities from Main Street to Clock Tower with pedestrian-friendly connections to destinations along Camp Street as well as the Levee District.</span></span></li>\n</ul>\n<span style="font-size: 11pt\;"><span style="font-family: calibri\,sans-serif\;">City of East Peoria staff wishes to thank the East PeoriA City Council for their continued support of these projects\, the IDNR for its funding and support\, Stark Excavating and PA Atherton for their timely and expedient work on the project as well as Patrick Meyer &amp\; Associates. </span></span><br />\n<br />\n<br />\n&nbsp\;
LOCATION:Camp Street Trail Intersection of Spinder drive and Camp street.
UID:e.526.4405
SEQUENCE:3
DTSTAMP:20260422T013927Z
URL:https://business.epcc.org/events/details/epcc-2017-ribbon-cutting-camp-st-trail-4405
END:VEVENT

END:VCALENDAR
