BEGIN:VCALENDAR
VERSION:2.0
PRODID:-//ChamberMaster//Event Calendar 2.0//EN
METHOD:PUBLISH
X-PUBLISHED-TTL:P3D
REFRESH-INTERVAL:P3D
CALSCALE:GREGORIAN
BEGIN:VEVENT
DTSTART:20170620T150000Z
DTEND:20170620T160000Z
X-MICROSOFT-CDO-ALLDAYEVENT:FALSE
SUMMARY:EPCC - 2017 Ribbon Cutting - Fondulac Rehab
DESCRIPTION:Join us at Fondulac Rehab to celebrate the launch of a new Senior Crime Stoppers program!
X-ALT-DESC;FMTTYPE=text/html:Join us at Fondulac Rehab to celebrate the launch of a new Senior Crime Stoppers program!
LOCATION:Fondulac Rehab 901 Illini Drive East Peoria\, IL 61611
UID:e.526.4343
SEQUENCE:3
DTSTAMP:20260422T083630Z
URL:https://business.epcc.org/events/details/epcc-2017-ribbon-cutting-fondulac-rehab-4343
END:VEVENT

END:VCALENDAR
