BEGIN:VCALENDAR
VERSION:2.0
PRODID:-//ChamberMaster//Event Calendar 2.0//EN
METHOD:PUBLISH
X-PUBLISHED-TTL:P3D
REFRESH-INTERVAL:P3D
CALSCALE:GREGORIAN
BEGIN:VEVENT
DTSTART:20180621T163000Z
DTEND:20180621T230000Z
X-MICROSOFT-CDO-ALLDAYEVENT:FALSE
SUMMARY:EPCC - 2018 24th Annual Golf Classic
DESCRIPTION:Click Here TO ORDER GOLF SHIRTS FOR YOUR TEAM\n\n\n\nThe annual outing attracts over 100 golfers\, includes food and prizes\, and offers an active day with fellow Chamber members and their guests.\n\n\n\nProceeds from the outing support the Terry Brewer Memorial Scholarship and the East Peoria Chamber of Commerce Business Scholarship\, awarded annually to two East Peoria Community High School students.\n\n\n\n$100 HOLE SPONSORSHIP\n\n        -Yard sign at designated hole\, program recognition\, distribution of promotional items at sponsored hole optional.\n\n\n\nHole sponsor deadline is May 28th to ensure logo information will be present on signs and programs.
X-ALT-DESC;FMTTYPE=text/html:<a href="https://chambermaster.blob.core.windows.net/userfiles/UserFiles/chambers/526/File/2018-RegistrationForm.pdf">Click Here</a> <span style="font-size:18px\;"><strong>TO ORDER GOLF SHIRTS FOR YOUR TEAM</strong></span><br />\n<br />\nThe annual outing attracts over 100 golfers\, includes food and prizes\, and offers an active day with fellow Chamber members and their guests.<br />\n<br />\nProceeds from the outing support the Terry Brewer Memorial Scholarship and the East Peoria Chamber of Commerce Business Scholarship\, awarded annually to two East Peoria Community High School students.<br />\n<br />\n<u><strong>$100 HOLE SPONSORSHIP</strong></u><br />\n&nbsp\;&nbsp\;&nbsp\;&nbsp\;&nbsp\;&nbsp\;&nbsp\;&nbsp\;-Yard sign at designated hole\, program recognition\,&nbsp\;distribution of&nbsp\;promotional items at sponsored hole optional.<br />\n<br />\n<em><strong>Hole sponsor </strong></em>deadline is <u>May&nbsp\;28th</u>&nbsp\;to ensure logo information will be present on signs and programs.<br />\n<br />\n&nbsp\;
LOCATION:Quail Meadows Golf Course 2215 Centennial Drive East Peoria\, IL 61611
UID:e.526.5472
SEQUENCE:3
DTSTAMP:20260421T140711Z
URL:https://business.epcc.org/events/details/epcc-2018-24th-annual-golf-classic-5472
END:VEVENT

END:VCALENDAR
