BEGIN:VCALENDAR
VERSION:2.0
PRODID:-//ChamberMaster//Event Calendar 2.0//EN
METHOD:PUBLISH
X-PUBLISHED-TTL:P3D
REFRESH-INTERVAL:P3D
CALSCALE:GREGORIAN
BEGIN:VEVENT
DTSTART:20180517T220000Z
DTEND:20180518T000000Z
X-MICROSOFT-CDO-ALLDAYEVENT:FALSE
SUMMARY:EPCC - 2018 May BAH - Stoney Creek
DESCRIPTION:
X-ALT-DESC;FMTTYPE=text/html:
LOCATION:
UID:e.526.5489
SEQUENCE:3
DTSTAMP:20260421T153612Z
URL:https://business.epcc.org/events/details/epcc-2018-may-bah-stoney-creek-5489
END:VEVENT

END:VCALENDAR
