BEGIN:VCALENDAR
VERSION:2.0
PRODID:-//ChamberMaster//Event Calendar 2.0//EN
METHOD:PUBLISH
X-PUBLISHED-TTL:P3D
REFRESH-INTERVAL:P3D
CALSCALE:GREGORIAN
BEGIN:VEVENT
DTSTART:20181004T210000Z
DTEND:20181005T000000Z
X-MICROSOFT-CDO-ALLDAYEVENT:FALSE
SUMMARY:EPCC - 2018 Premier Business Expo
DESCRIPTION:Thank you for your interest in the East Peoria Chamber of Commerce Oktoberfest!    \n\nThe Oktoberfest is the area's premier Business Expo and is a great way to showcase your business. Business leaders from a wide variety of organizations attend this annual event\, making this the best place to get in touch with potential clients.  Participating companies have included small businesses\, non-profits\, and some of the area's largest employers.     \n\n    We also have many area restaurants that participate each year which creates our own "mini taste of East Peoria". You will definitely want to stop by and try some of the samples available from each restaurant. We also have drink samples available from area distributors. (Must be 21 to consume alcohol).\n\n  Greg Batton will be our Emcee and will come to your booth and announce if you have a drawing.    \n\n    German-style decorations\, costumes and food are encouraged but not required. \n\n    If you have special requests\, ie.\, against the wall\, oversized display\, etc\, please note that in the comments when you register. \n\nWe will try to accommodate all requests.       \n\n* All exhibitors must sign and return an Indemnification Form. Email form to epcc@epcc.org.\n\n    Click Here for Indemnification form.\n\n    Click Here for Informational form\n\n    Click Here for Registration forms\n\n* CHAMBER MEMBERS ONLY!!
X-ALT-DESC;FMTTYPE=text/html:<div style="color: gray\;">\n<div>&nbsp\;&nbsp\;&nbsp\;&nbsp\;<em><strong><span style="color: rgb(0\, 0\, 0)\;">Thank you for your interest in the East Peoria Chamber of Commerce <span style="background-color: rgb(255\, 140\, 0)\;">Oktoberfest!</span>&nbsp\;&nbsp\;&nbsp\;&nbsp\;</span></strong></em><br />\n<span style="color: rgb(0\, 0\, 0)\;">The Oktoberfest is the area&#39\;s&nbsp\;premier Business Expo&nbsp\;and is a great way to showcase your business.&nbsp\;Business leaders from a wide variety of organizations attend this annual event\, making this the best place to get in touch with potential clients.&nbsp\;&nbsp\;Participating companies have included small businesses\, non-profits\,&nbsp\;and&nbsp\;some of the area&rsquo\;s largest employers.&nbsp\;</span>&nbsp\;&nbsp\;&nbsp\;&nbsp\;<br />\n&nbsp\;&nbsp\;&nbsp\;&nbsp\;<span style="color: rgb(0\, 0\, 0)\;">We also have many area restaurants that participate&nbsp\;each year&nbsp\;which&nbsp\;creates&nbsp\;our own &quot\;mini taste of East Peoria&quot\;.&nbsp\;You will definitely want to stop by&nbsp\;and try some of the samples available from each restaurant. We also have&nbsp\;drink samples available from area distributors. (Must be 21 to&nbsp\;consume alcohol).<br />\n&nbsp\; Greg Batton will be our Emcee and will come to your booth and announce&nbsp\;if you have a drawing.</span>&nbsp\;&nbsp\;&nbsp\;&nbsp\;<br />\n&nbsp\;&nbsp\;&nbsp\;&nbsp\;<strong><em><font color="#8b4513">German-style decorations\, costumes and food are encouraged but not required. </font></em></strong><br />\n&nbsp\;&nbsp\;&nbsp\;&nbsp\;<em><span style="color: rgb(0\, 0\, 0)\;">If you have special requests\, ie.\, against the wall\, oversized display\, etc\, <strong>please&nbsp\;note that in the comments when you register</strong>.&nbsp\;<br />\nWe will try to accommodate all requests.&nbsp\;&nbsp\;</span>&nbsp\;</em><strong><em>&nbsp\;&nbsp\;&nbsp\;&nbsp\;</em></strong><br />\n<span style="color: rgb(0\, 0\, 0)\;">* All exhibitors must sign and return an Indemnification Form. Email form to epcc@epcc.org.</span><br />\n&nbsp\;&nbsp\;&nbsp\;&nbsp\;<a href="https://chambermaster.blob.core.windows.net/userfiles/UserFiles/chambers/526/File/Indemnificationpage.pdf">Click Here</a> for Indemnification form.<br />\n&nbsp\;&nbsp\;&nbsp\;&nbsp\;<a href="https://chambermaster.blob.core.windows.net/userfiles/UserFiles/chambers/526/File/Informationalpage.pdf">Click Here</a> for Informational form<br />\n&nbsp\;&nbsp\;&nbsp\;&nbsp\;<a href="https://chambermaster.blob.core.windows.net/userfiles/UserFiles/chambers/526/File/Registrationform.pdf">Click Here</a> for Registration forms<br />\n* CHAMBER MEMBERS ONLY!!<br />\n&nbsp\;</div>\n</div>\n
LOCATION:Par-A-Dice Hotel 21 Blackjack Blvd. East Peoria\, IL. 61611
UID:e.526.5491
SEQUENCE:3
DTSTAMP:20260421T040345Z
URL:https://business.epcc.org/events/details/epcc-2018-premier-business-expo-5491
END:VEVENT

END:VCALENDAR
