BEGIN:VCALENDAR
VERSION:2.0
PRODID:-//ChamberMaster//Event Calendar 2.0//EN
METHOD:PUBLISH
X-PUBLISHED-TTL:P3D
REFRESH-INTERVAL:P3D
CALSCALE:GREGORIAN
BEGIN:VEVENT
DTSTART:20190620T163000Z
DTEND:20190620T230000Z
X-MICROSOFT-CDO-ALLDAYEVENT:FALSE
SUMMARY:EPCC - 2019 25th Annual EPCC Golf Classic
DESCRIPTION:CLICK HERE TO ORDER GOLF SHIRTS FOR YOUR TEAM\n\n\n\nThe annual outing attracts over 100 golfers\, includes food and prizes\, and offers an active day with fellow Chamber members and their guests.\n\n\n\nProceeds from the outing support the Terry Brewer Memorial Scholarship and the East Peoria Chamber of Commerce Business Scholarship\, awarded annually to two East Peoria Community High School students.\n\n\n\nCLICK HERE FOR SPONSORSHIP DETAILS\n\n\n\nHole sponsor deadline is May 28th to ensure logo information will be present on signs and programs.\n\n\n\nTeam registration deadline is May 29th to get golf shirts. You can register online until June 7th.\n\n\n\nCLICK HERE TO DONATE
X-ALT-DESC;FMTTYPE=text/html:<br />\n<a href="https://files.constantcontact.com/7d7df4bb001/597e52ba-5913-4b94-8150-702c6a722528.pdf"><span style="font-size:18px\;"><strong>CLICK HERE&nbsp\;TO ORDER GOLF SHIRTS FOR YOUR TEAM</strong></span></a><br />\n<br />\nThe annual outing attracts over 100 golfers\, includes food and prizes\, and offers an active day with fellow Chamber members and their guests.<br />\n<br />\nProceeds from the outing support the Terry Brewer Memorial Scholarship and the East Peoria Chamber of Commerce Business Scholarship\, awarded annually to two East Peoria Community High School students.<br />\n<br />\n<span style="font-size:18px\;"><strong><a href="https://files.constantcontact.com/7d7df4bb001/e54c30ee-7124-4545-a4cf-ee81adb6f3dd.pdf">CLICK HERE FOR SPONSORSHIP DETAILS</a></strong></span><br />\n<br />\n<em><strong>Hole sponsor </strong></em>deadline is May&nbsp\;28th&nbsp\;to ensure logo information will be present on signs and programs.<br />\n<br />\n<em><strong>Team registration</strong></em> deadline is May 29th to get golf shirts. You can register online until June 7th.<br />\n<br />\n<a href="https://files.constantcontact.com/7d7df4bb001/a30ac79c-9198-4f02-8cd1-cec5ee00d2f1.pdf"><span style="font-size:18px\;"><strong>CLICK HERE TO DONATE</strong></span></a>
LOCATION:Quail Meadows Golf Course 2215 Centennial Drive East Peoria\, IL 61611
UID:e.526.6024
SEQUENCE:3
DTSTAMP:20260420T153156Z
URL:https://business.epcc.org/events/details/epcc-2019-25th-annual-epcc-golf-classic-6024
END:VEVENT

END:VCALENDAR
