BEGIN:VCALENDAR
VERSION:2.0
PRODID:-//ChamberMaster//Event Calendar 2.0//EN
METHOD:PUBLISH
X-PUBLISHED-TTL:P3D
REFRESH-INTERVAL:P3D
CALSCALE:GREGORIAN
BEGIN:VEVENT
DTSTART:20190125T233000Z
DTEND:20190126T030000Z
X-MICROSOFT-CDO-ALLDAYEVENT:FALSE
SUMMARY:EPCC - 2019 East Peoria Chamber of Commerce 39th Annual Dinner
DESCRIPTION:Click here for information about becoming an event sponsor!
X-ALT-DESC;FMTTYPE=text/html:<a href="https://files.constantcontact.com/7d7df4bb001/5fd59d8d-8dc9-4562-a94c-51c066f0c6dc.pdf">Click here for information about becoming an event sponsor!</a>
LOCATION:Par-A-Dice Hotel & Casino 21 Blackjack Blvd. East Peoria\, IL 61611
UID:e.526.5911
SEQUENCE:3
DTSTAMP:20260420T231215Z
URL:https://business.epcc.org/events/details/epcc-2019-east-peoria-chamber-of-commerce-39th-annual-dinner-5911
END:VEVENT

END:VCALENDAR
