BEGIN:VCALENDAR
VERSION:2.0
PRODID:-//ChamberMaster//Event Calendar 2.0//EN
METHOD:PUBLISH
X-PUBLISHED-TTL:P3D
REFRESH-INTERVAL:P3D
CALSCALE:GREGORIAN
BEGIN:VEVENT
DTSTART:20190426T120000Z
DTEND:20190426T140000Z
X-MICROSOFT-CDO-ALLDAYEVENT:FALSE
SUMMARY:EPCC - 2019 Mayor's Prayer Breakfast
DESCRIPTION:
X-ALT-DESC;FMTTYPE=text/html:
LOCATION:Embassy Suites 100 Conference Center Drive East Peoria\, IL. 61611
UID:e.526.5968
SEQUENCE:3
DTSTAMP:20260420T183031Z
URL:https://business.epcc.org/events/details/epcc-2019-mayor-s-prayer-breakfast-5968
END:VEVENT

END:VCALENDAR
