BEGIN:VCALENDAR
VERSION:2.0
PRODID:-//ChamberMaster//Event Calendar 2.0//EN
METHOD:PUBLISH
X-PUBLISHED-TTL:P3D
REFRESH-INTERVAL:P3D
CALSCALE:GREGORIAN
BEGIN:VEVENT
DTSTART:20191101T120000Z
DTEND:20191101T133000Z
X-MICROSOFT-CDO-ALLDAYEVENT:FALSE
SUMMARY:EPCC - 2019 November Eggs & Issues
DESCRIPTION:Cannabis and YOU! What You Should Know About the Upcoming Sale and Use of Cannabis\n\n\n\nOpening remarks by Mayor John Kahl\n\nProgram presented by Dennis Triggs\, Megan Yentes\, and Scott Brunton of Miller\, Hall\, and Triggs
X-ALT-DESC;FMTTYPE=text/html:<strong><em>Cannabis and YOU! What You Should Know About the Upcoming Sale and Use of Cannabis</em><br />\n<br />\nOpening remarks by Mayor John Kahl<br />\nProgram presented by Dennis Triggs\, Megan Yentes\, and Scott Brunton of Miller\, Hall\, and Triggs</strong>
LOCATION:Par-A-Dice Hotel Casino 21 Blackjack Blvd. East Peoria\, IL 61611
UID:e.526.6227
SEQUENCE:3
DTSTAMP:20260420T163527Z
URL:https://business.epcc.org/events/details/epcc-2019-november-eggs-issues-6227
END:VEVENT

END:VCALENDAR
