BEGIN:VCALENDAR
VERSION:2.0
PRODID:-//ChamberMaster//Event Calendar 2.0//EN
METHOD:PUBLISH
X-PUBLISHED-TTL:P3D
REFRESH-INTERVAL:P3D
CALSCALE:GREGORIAN
BEGIN:VEVENT
DTSTART:20200910T163000Z
DTEND:20200910T230000Z
X-MICROSOFT-CDO-ALLDAYEVENT:FALSE
SUMMARY:EPCC - 2020 26th Annual EPCC Golf Classic
DESCRIPTION:The annual outing attracts over 100 golfers\, includes food and prizes\, and offers an active day with fellow Chamber members and their guests.\n\n\n\nProceeds from the outing support the Terry Brewer Memorial Scholarship and the East Peoria Chamber of Commerce Business Scholarship\, awarded annually to two East Peoria Community High School students.\n\n\n\nCLICK HERE FOR PRINTABLE REGISTRATION FORM AND SPONSORSHIP DETAILS\n\nCLICK HERE FOR DONATION FORM.\n\n\n\nHole sponsor deadline is to ensure logo information will be present on signs and programs.\n\n\n\nTeam registration deadline Friday\, September 4th.
X-ALT-DESC;FMTTYPE=text/html:<br />\nThe annual outing attracts over 100 golfers\, includes food and prizes\, and offers an active day with fellow Chamber members and their guests.<br />\n<br />\nProceeds from the outing support the Terry Brewer Memorial Scholarship and the East Peoria Chamber of Commerce Business Scholarship\, awarded annually to two East Peoria Community High School students.<br />\n<br />\n<span style="font-size:18px\;"><strong><a href="https://files.constantcontact.com/7d7df4bb001/c17524d8-4ae8-40d5-8382-cd965ab2973f.pdf">CLICK HERE FOR PRINTABLE REGISTRATION FORM AND SPONSORSHIP DETAILS</a><br />\n<a href="https://files.constantcontact.com/7d7df4bb001/e62fe2bf-40b1-4302-bf8d-11ab1d798d96.pdf">CLICK HERE FOR DONATION FORM.</a></strong></span><br />\n<br />\n<em><strong>Hole sponsor deadline</strong></em> is to ensure logo information will be present on signs and programs.<br />\n<br />\n<em><strong>Team registration</strong></em> <strong><em>deadline</em></strong>&nbsp\;<em><strong>Friday\, September 4th.</strong></em>
LOCATION:Quail Meadows Golf Course 2215 Centennial Drive East Peoria\, IL 61611
UID:e.526.6359
SEQUENCE:3
DTSTAMP:20260421T004703Z
URL:https://business.epcc.org/events/details/epcc-2020-26th-annual-epcc-golf-classic-6359
END:VEVENT

END:VCALENDAR
