BEGIN:VCALENDAR
VERSION:2.0
PRODID:-//ChamberMaster//Event Calendar 2.0//EN
METHOD:PUBLISH
X-PUBLISHED-TTL:P3D
REFRESH-INTERVAL:P3D
CALSCALE:GREGORIAN
BEGIN:VEVENT
DTSTART:20200109T233000Z
DTEND:20200110T030000Z
X-MICROSOFT-CDO-ALLDAYEVENT:FALSE
SUMMARY:EPCC - 2020 40th Annual Dinner
DESCRIPTION:
X-ALT-DESC;FMTTYPE=text/html:
LOCATION:Par-A-Dice Hotel & Casino 21 Blackjack Blvd. East Peoria\, IL 61611
UID:e.526.6307
SEQUENCE:3
DTSTAMP:20260420T122747Z
URL:https://business.epcc.org/events/details/epcc-2020-40th-annual-dinner-6307
END:VEVENT

END:VCALENDAR
