BEGIN:VCALENDAR
VERSION:2.0
PRODID:-//ChamberMaster//Event Calendar 2.0//EN
METHOD:PUBLISH
X-PUBLISHED-TTL:P3D
REFRESH-INTERVAL:P3D
CALSCALE:GREGORIAN
BEGIN:VEVENT
DTSTART:20241003T213000Z
DTEND:20241003T233000Z
X-MICROSOFT-CDO-ALLDAYEVENT:FALSE
SUMMARY:EPCC - 2024 24th Annual Oktoberfest - Premier Business Expo
DESCRIPTION:Thank you for your interest in the East Peoria Chamber of Commerce Oktoberfest!   \n\n* CHAMBER MEMBERS ONLY*\n\n \n\nOktoberfest is the area's premier Business Exposition and is a great way to showcase your business. Business leaders from a wide variety of organizations attend this annual event\, making this the best place to get in touch with potential clients. Participating companies have included small businesses\, non-profits\, and some of the areas largest employers.     \n\n\n\nWe also have many area restaurants that participate each year which creates our own "mini taste of East Peoria". You will definitely want to stop by and try some of the samples available from each restaurant!\n\n\n\nGerman-style decorations\, costumes and food are encouraged but not required.\n\n\n\nIf you have special requests (i.e. against the wall\, oversized display\, etc\,) please note that in the comments when you register. We will try to accommodate all requests.\n\n   \n\n* All exhibitors must sign and return an Indemnification Form & email form to Ketrina@epcc.org.\n\n    Click Here for Indemnification form.\n\n\n\n    Click Here for informational form.\n\n\n\nPlease share with your friends\, family\, and colleagues!
X-ALT-DESC;FMTTYPE=text/html:<span style="color: rgb(204\, 102\, 0)\;"><em><strong>Thank you for your interest in the East Peoria Chamber of Commerce Oktoberfest!&nbsp\;&nbsp\;</strong></em></span><span style="color: rgb(255\, 140\, 0)\;"><em><strong>&nbsp\;</strong></em></span><br style="color: rgb(128\, 128\, 128)\;" />\n<span style="color: rgb(0\, 0\, 0)\;">* CHAMBER MEMBERS ONLY*</span><br style="color: rgb(128\, 128\, 128)\;" />\n<span style="color: rgb(255\, 140\, 0)\;"><em><strong>&nbsp\;</strong></em></span><br style="color: rgb(128\, 128\, 128)\;" />\n<span style="color: rgb(0\, 0\, 0)\;">Oktoberfest is the area&#39\;s&nbsp\;premier Business Exposition and is a great way to showcase your business.&nbsp\;Business leaders from a wide variety of organizations attend this annual event\, making this the best place to get in touch with potential clients. Participating companies have included small businesses\, non-profits\,&nbsp\;and&nbsp\;some of the areas largest employers.&nbsp\;</span><span style="color: rgb(128\, 128\, 128)\;">&nbsp\;&nbsp\;&nbsp\;&nbsp\;</span><br style="color: rgb(128\, 128\, 128)\;" />\n<br style="color: rgb(128\, 128\, 128)\;" />\n<span style="color: rgb(0\, 0\, 0)\;">We also have many area restaurants that participate&nbsp\;each year&nbsp\;which&nbsp\;creates&nbsp\;our own &quot\;mini taste of East Peoria&quot\;.&nbsp\;You will definitely want to stop by&nbsp\;and try some of the samples available from each restaurant!</span><br style="color: rgb(128\, 128\, 128)\;" />\n<br style="color: rgb(128\, 128\, 128)\;" />\n<strong style="color: rgb(128\, 128\, 128)\;"><em><font color="#8b4513">German-style decorations\, costumes and food are encouraged but not required.</font></em></strong><br style="color: rgb(128\, 128\, 128)\;" />\n<br style="color: rgb(128\, 128\, 128)\;" />\n<em style="color: rgb(128\, 128\, 128)\;"><span style="color: rgb(0\, 0\, 0)\;">If you have special requests&nbsp\;(i.e. against the wall\, oversized display\, etc\,)&nbsp\;<strong>please&nbsp\;note that in the comments when you register</strong>. We will try to accommodate all requests.</span></em><br style="color: rgb(128\, 128\, 128)\;" />\n<strong style="color: rgb(128\, 128\, 128)\;"><em>&nbsp\; &nbsp\;</em></strong><br style="color: rgb(128\, 128\, 128)\;" />\n<span style="color: rgb(0\, 0\, 0)\;">* All exhibitors must sign and return an Indemnification Form &amp\;&nbsp\;email form to Ketrina@epcc.org.</span><br style="color: rgb(128\, 128\, 128)\;" />\n<span style="color: rgb(128\, 128\, 128)\;">&nbsp\;&nbsp\;&nbsp\;&nbsp\;</span><u style="color: rgb(128\, 128\, 128)\;"><strong><a href="https://files.constantcontact.com/7d7df4bb001/08aa14bf-3cfb-4147-86c1-d54efe4ad8ee.pdf"><span style="color: rgb(139\, 69\, 19)\;">Click Here for Indemnification form.</span></a></strong></u><br style="color: rgb(128\, 128\, 128)\;" />\n<br style="color: rgb(128\, 128\, 128)\;" />\n<span style="color: rgb(128\, 128\, 128)\;">&nbsp\;&nbsp\;&nbsp\;&nbsp\;</span><u style="color: rgb(128\, 128\, 128)\;"><strong><a href="https://files.constantcontact.com/7d7df4bb001/3321275b-1c86-4c07-b0c2-afaf476007a1.pdf"><span style="color: rgb(139\, 69\, 19)\;">Click Here for informational form</span></a>.</strong></u><br />\n<br />\n<span style="font-size:18px\;"><strong style="color: rgb(128\, 128\, 128)\;"><em><font color="#8b4513">Please share with your friends\, family\, and colleagues!</font></em></strong></span>
LOCATION:Par-A-Dice Hotel 21 Blackjack Blvd. East Peoria\, IL. 61611
UID:e.526.7389
SEQUENCE:3
DTSTAMP:20260420T043849Z
URL:https://business.epcc.org/events/details/epcc-2024-24th-annual-oktoberfest-premier-business-expo-7389
END:VEVENT

END:VCALENDAR
