BEGIN:VCALENDAR
VERSION:2.0
PRODID:-//ChamberMaster//Event Calendar 2.0//EN
METHOD:PUBLISH
X-PUBLISHED-TTL:P3D
REFRESH-INTERVAL:P3D
CALSCALE:GREGORIAN
BEGIN:VEVENT
DTSTART:20240202T130000Z
DTEND:20240202T150000Z
X-MICROSOFT-CDO-ALLDAYEVENT:FALSE
SUMMARY:EPCC - 2024 Mayor's State of the City (Eggs & Issues)
DESCRIPTION:Join us for Eggs & Issues at Par-A-Dice on Friday\, February 2nd! The doors will open at 7 AM\, and the program will begin promptly at 7:30. Buffet Breakfast will be available. Tickets are $25/per person and registration is required.
X-ALT-DESC;FMTTYPE=text/html:Join us for Eggs &amp\; Issues at Par-A-Dice on Friday\, February 2nd! The doors will open at 7 AM\, and the program will begin promptly at 7:30. Buffet Breakfast will be available. Tickets are $25/per person and registration is required.
LOCATION:Par-A-Dice Hotel Casino 21 Blackjack Blvd. East Peoria\, IL 61611
UID:e.526.7357
SEQUENCE:3
DTSTAMP:20260422T000436Z
URL:https://business.epcc.org/events/details/epcc-2024-mayor-s-state-of-the-city-eggs-issues-7357
END:VEVENT

END:VCALENDAR
