BEGIN:VCALENDAR
VERSION:2.0
PRODID:-//ChamberMaster//Event Calendar 2.0//EN
METHOD:PUBLISH
X-PUBLISHED-TTL:P3D
REFRESH-INTERVAL:P3D
CALSCALE:GREGORIAN
BEGIN:VEVENT
DTSTART:20170727T173000Z
DTEND:20170727T183000Z
X-MICROSOFT-CDO-ALLDAYEVENT:FALSE
SUMMARY:EPCC Ribbon Cutting at That's So Sweet
DESCRIPTION:Join us to celebrate the opening of That's So Sweet\, a new bite-size bakery in East Peoria!
X-ALT-DESC;FMTTYPE=text/html:Join us to celebrate the opening of That&#39\;s So Sweet\, a new bite-size bakery in East Peoria!
LOCATION:That's So Sweet 409 Richland Street East Peoria\, IL 61611
UID:e.526.4364
SEQUENCE:3
DTSTAMP:20260422T055557Z
URL:https://business.epcc.org/events/details/epcc-ribbon-cutting-at-that-s-so-sweet-4364
END:VEVENT

END:VCALENDAR
