BEGIN:VCALENDAR
VERSION:2.0
PRODID:-//ChamberMaster//Event Calendar 2.0//EN
METHOD:PUBLISH
X-PUBLISHED-TTL:P3D
REFRESH-INTERVAL:P3D
CALSCALE:GREGORIAN
BEGIN:VEVENT
DTSTART:20210707T170000Z
DTEND:20210707T230000Z
X-MICROSOFT-CDO-ALLDAYEVENT:FALSE
SUMMARY:EPCHS Rock 'N Roll Up Your Sleeves Blood Drive
DESCRIPTION:https://www.1057thexrocks.com/2021/06/08/the-15th-annual-rock-and-roll-up-your-sleeve-blood-drive-set-for-july-7th-at-the-par-a-dice-hotel/ \n\n\n\nAre you ready for some serious blood donation for Summer 2021?? Join 105-7-The-X\, 95-5\, G-L-O-Cumulus Media\, the students of East Peoria High School\, and the Peoria Chapter of the American Red Cross for the 15th Annual "Rock And Roll Up Your Sleeve" Blood Drive\, set for Wednesday July 7th\, from Noon-6pm\, at the Par-A-Dice Hotel Casino\, in East Peoria\, IL! It's time to gather your friends and family\, and donate blood! To schedule your appointment\, visit REDCROSSBLOOD.ORG\, or download the Red Cross Blood Donor App\, and enter the code "ROCKANDROLL." You can also call the American Red Cross\, at 1-800-Red-Cross. We are beyond excited to be back promoting this awesome blood drive for the 15th year! Huge thanks to the students of East Peoria High School\, see you on July 7th at the Par-A-Dice Hotel!
X-ALT-DESC;FMTTYPE=text/html:<a href="https://www.1057thexrocks.com/2021/06/08/the-15th-annual-rock-and-roll-up-your-sleeve-blood-drive-set-for-july-7th-at-the-par-a-dice-hotel/">https://www.1057thexrocks.com/2021/06/08/the-15th-annual-rock-and-roll-up-your-sleeve-blood-drive-set-for-july-7th-at-the-par-a-dice-hotel/&nbsp\;</a><br />\n<br />\n<span style="color: rgb(85\, 85\, 85)\; font-family: verdana\, sans-serif\; font-size: 14px\;">Are you ready for some serious blood donation for Summer 2021?? Join 105-7-The-X\, 95-5\, G-L-O-Cumulus Media\, the students of East Peoria High School\, and the Peoria Chapter of the American Red Cross for the 15th Annual &ldquo\;Rock And Roll Up Your Sleeve&rdquo\; Blood Drive\, set for Wednesday July 7th\, from Noon-6pm\, at the Par-A-Dice Hotel Casino\, in East Peoria\, IL! It&rsquo\;s time to gather your friends and family\, and donate blood! To schedule your appointment\, visit REDCROSSBLOOD.ORG\, or download the Red Cross Blood Donor App\, and enter the code &ldquo\;ROCKANDROLL.&rdquo\; You can also call the American Red Cross\, at 1-800-Red-Cross. We are beyond excited to be back promoting this awesome blood drive for the 15th year! Huge thanks to the students of East Peoria High School\, see you on July 7th at the Par-A-Dice Hotel!</span>
LOCATION:Par-A-Dice Hotel Casino 21 Blackjack Blvd East Peoria\, IL 61611
UID:e.526.6734
SEQUENCE:3
DTSTAMP:20260421T143504Z
URL:https://business.epcc.org/events/details/epchs-rock-n-roll-up-your-sleeves-blood-drive-6734
END:VEVENT

END:VCALENDAR
