BEGIN:VCALENDAR
VERSION:2.0
PRODID:-//ChamberMaster//Event Calendar 2.0//EN
METHOD:PUBLISH
X-PUBLISHED-TTL:P3D
REFRESH-INTERVAL:P3D
CALSCALE:GREGORIAN
BEGIN:VEVENT
DTSTART:20160311T160000Z
DTEND:20160311T170000Z
X-MICROSOFT-CDO-ALLDAYEVENT:FALSE
SUMMARY:Exploring Stress Reconnection Workshop for Veterans
DESCRIPTION:Left unaddressed\, stress can lead to a number of negative outcomes. Learn how to identify ways to view and address life's challenges in a small\, confidential group. Presented by the Red Cross.
X-ALT-DESC;FMTTYPE=text/html:Left unaddressed\, stress can lead to a number of negative outcomes. Learn how to identify ways to view and address life&#39\;s challenges in a small\, confidential group. Presented by the Red Cross.
LOCATION:Goodwill Commons at 2319 E. War Memorial Dr.\, Peoria\, IL 61614
UID:e.526.3046
SEQUENCE:3
DTSTAMP:20260424T162240Z
URL:https://business.epcc.org/events/details/exploring-stress-reconnection-workshop-for-veterans-03-11-2016-3046
END:VEVENT

END:VCALENDAR
