BEGIN:VCALENDAR
VERSION:2.0
PRODID:-//ChamberMaster//Event Calendar 2.0//EN
METHOD:PUBLISH
X-PUBLISHED-TTL:P3D
REFRESH-INTERVAL:P3D
CALSCALE:GREGORIAN
BEGIN:VEVENT
DTSTART:20151113T160000Z
DTEND:20151113T173000Z
X-MICROSOFT-CDO-ALLDAYEVENT:FALSE
SUMMARY:Exploring Stress Reconnection Workshop for Veterans
DESCRIPTION:This workshop is designed to help veterans and their families recognize and manage stress and other related concerns\, including trauma issues. Left unaddressed\, stress and trauma could lead to a variety of negative outcomes.
X-ALT-DESC;FMTTYPE=text/html:This workshop is designed to help veterans and their families recognize and manage stress and other related concerns\, including trauma issues. Left unaddressed\, stress and trauma could lead to a variety of negative outcomes.
LOCATION:Goodwill Commons\, 2319 E. War Memorial Dr.\, Peoria\, IL 61614
UID:e.526.2837
SEQUENCE:3
DTSTAMP:20260424T204701Z
URL:https://business.epcc.org/events/details/exploring-stress-reconnection-workshop-for-veterans-11-13-2015-2837
END:VEVENT

END:VCALENDAR
