BEGIN:VCALENDAR
VERSION:2.0
PRODID:-//ChamberMaster//Event Calendar 2.0//EN
METHOD:PUBLISH
X-PUBLISHED-TTL:P3D
REFRESH-INTERVAL:P3D
CALSCALE:GREGORIAN
BEGIN:VEVENT
DTSTART:20231116T213000Z
DTEND:20231116T230000Z
X-MICROSOFT-CDO-ALLDAYEVENT:FALSE
SUMMARY:: Facebook Formula-Tools to Transform Your Business
DESCRIPTION:In the vast realm of social media\, Facebook stands as a titan of digital engagement. This in-person seminar offers a deep dive into the platform's myriad of tools tailored for business growth. Whether you're looking to optimize your business page\, engage with a wider audience\, or harness the power of targeted advertising\, this seminar provides a comprehensive guide. We'll demystify Facebook's Business Suite\, offering actionable insights and strategies to elevate your online presence. It's more than just posting\; it's about leveraging the right tools to craft a compelling digital narrative. Join the Turner Center for Entrepreneurship and the Illinois Small Business Development and discover the formula to transform your business in the Facebook era. You won't want to miss this insightful seminar.\n\nSpeaker:\n\n \n\nRyan Deemer: A trailblazer in the digital e-commerce space. With a rich entrepreneurial background\, Ryan founded "Skid Steer Nation\," showcasing his prowess in leveraging online platforms to their fullest potential. Through a blend of innovative systems\, virtual assistance\, and automation\, he's streamlined business operations to achieve remarkable efficiency. As the architect behind the transformative "Groundbreaking Growth" program\, Ryan's expertise is sought after by business owners eager to harness the power of the digital realm. Join him and tap into insights that promise to elevate your online business strategy.\n\n \n\nCosponsor:  SCORE Peoria
X-ALT-DESC;FMTTYPE=text/html:<span style="color:#222222"><span style="font-family:times new roman\,serif">In the vast realm of social media\, Facebook stands as a titan of digital engagement. This in-person seminar offers a deep dive into the platform&#39\;s myriad of tools tailored for business growth. Whether you&#39\;re looking to optimize your business page\, engage with a wider audience\, or harness the power of targeted advertising\, this seminar provides a comprehensive guide. We&#39\;ll demystify Facebook&#39\;s Business Suite\, offering actionable insights and strategies to elevate your online presence. It&#39\;s more than just posting\; it&#39\;s about leveraging the right tools to craft a compelling digital narrative. Join the </span></span><span style="color:#222222"><span style="font-family:times new roman\,serif">Turner Center for Entrepreneurship and the Illinois Small Business Development</span></span><span style="color:#222222"><span style="font-family:times new roman\,serif"> and discover the formula to <strong>transform</strong> your business in the Facebook era. </span></span><span style="color:#222222"><span style="font-family:times new roman\,serif">You won&rsquo\;t want to miss this insightful seminar.</span></span><br />\n<strong><span style="font-family:times new roman\,serif">Speaker</span></strong><span style="font-family:times new roman\,serif">:</span><br />\n&nbsp\;<br />\n<strong><span style="color:#222222"><span style="font-family:times new roman\,serif">Ryan Deemer</span></span></strong><span style="color:#222222"><span style="font-family:times new roman\,serif">: A trailblazer in the digital e-commerce space. With a rich entrepreneurial background\, Ryan founded &quot\;Skid Steer Nation\,&quot\; showcasing his prowess in leveraging online platforms to their fullest potential. Through a blend of innovative systems\, virtual assistance\, and automation\, he&#39\;s streamlined business operations to achieve remarkable efficiency. As the architect behind the transformative &quot\;Groundbreaking Growth&quot\; program\, Ryan&#39\;s expertise is sought after by business owners eager to harness the power of the digital realm. Join him and tap into insights that promise to elevate your online business strategy.</span></span><br />\n&nbsp\;<br />\n<strong><span style="font-family:times new roman\,serif">Cosponsor: </span></strong><span style="font-family:times new roman\,serif">&nbsp\;SCORE Peoria</span>
LOCATION:Location: Business & Engineering Convergence Center\, 1500 W Main St\, Peoria. Parking: Visitor's parking lot. (corner of Duryea & St. James) or either side of Main Street.
UID:e.526.7343
SEQUENCE:3
DTSTAMP:20260422T062046Z
URL:https://business.epcc.org/events/details/facebook-formula-tools-to-transform-your-business-7343
END:VEVENT

END:VCALENDAR
