BEGIN:VCALENDAR
VERSION:2.0
PRODID:-//ChamberMaster//Event Calendar 2.0//EN
METHOD:PUBLISH
X-PUBLISHED-TTL:P3D
REFRESH-INTERVAL:P3D
CALSCALE:GREGORIAN
BEGIN:VEVENT
DTSTART:20191013T170000Z
DTEND:20191013T210000Z
X-MICROSOFT-CDO-ALLDAYEVENT:FALSE
SUMMARY:Fall Festival at Wheels O' Time
DESCRIPTION:Fall Festival   our most popular day of the season! You'll love visiting the museum while it is decked out in its best fall and Halloween decor! Enjoy blacksmithing demonstrations by Ron Alexander\, folk music by Dave Berchtold\, fire equipment (modern and classic)\, ambulance tours by AMT\, a mini steam engine\, special exhibits and demonstrations\, and so much more!\n\n\n\nPlus\, you can get a yummy lunch or snack from Nacho Mama's Grilled Cheese food truck during the festival!\n\nRegular admission rates apply.
X-ALT-DESC;FMTTYPE=text/html:<span style="color:rgb(29\, 33\, 41)\; font-family:system-ui\,-apple-system\,system-ui\,.sfnstext-regular\,sans-serif\; font-size:14px">Fall Festival &ndash\; our most popular day of the season! You&rsquo\;ll love visiting the museum while it is decked out in its best fall and Halloween decor! Enjoy blacksmithing demonstrations by Ron Alexander\, folk music by Dave Berchtold\, fire equipment (modern and classic)\, ambulance tours by AMT\, a mini steam engine\, special exhibits and demonstrations\, and so much more!</span><br />\n<br />\n<span style="color:rgb(29\, 33\, 41)\; font-family:system-ui\,-apple-system\,system-ui\,.sfnstext-regular\,sans-serif\; font-size:14px">Plus\, you can get a yummy lunch or snack from Nacho Mama&rsquo\;s Grilled Cheese food truck during the festival!</span><br />\n<span style="color:rgb(29\, 33\, 41)\; font-family:system-ui\,-apple-system\,system-ui\,.sfnstext-regular\,sans-serif\; font-size:14px">Regular admission rates apply.</span>
LOCATION:Wheels O' Time Museum 1710 W Woodside Drive Dunlap\, IL 61525
UID:e.526.6220
SEQUENCE:3
DTSTAMP:20260420T110449Z
URL:https://business.epcc.org/events/details/fall-festival-at-wheels-o-time-6220
END:VEVENT

END:VCALENDAR
