BEGIN:VCALENDAR
VERSION:2.0
PRODID:-//ChamberMaster//Event Calendar 2.0//EN
METHOD:PUBLISH
X-PUBLISHED-TTL:P3D
REFRESH-INTERVAL:P3D
CALSCALE:GREGORIAN
BEGIN:VEVENT
DTSTART;VALUE=DATE:20151020
DTEND;VALUE=DATE:20151021
TRANSP:TRANSPARENT
X-MICROSOFT-CDO-ALLDAYEVENT:TRUE
SUMMARY:FALL FRAME SHOW 50% OFF
DESCRIPTION:Fall Frame Show\n\nfeaturing VERSACE & COACH\n\nCome and meet our Versace rep and choose from over 100 designer frames.\n\n1 DAY ONLY 50% OFF\n\nAll Frames in Stock\n\nSome restrictions may apply. Not valid with any other offer or insurance discounts.
X-ALT-DESC;FMTTYPE=text/html:<div style="text-align: center\;"><strong><span style="font-size: 48px\;">Fall Frame Show</span><br />\n<span style="font-size: 22px\;">featuring VERSACE &amp\; COACH<br />\n<span style="font-size: 16px\;">Come and meet our Versace rep and choose from over 100 designer frames.</span></span><br />\n<span style="font-size: 26px\;">1 DAY ONLY 50% OFF<br />\nAll Frames in Stock</span></strong><br />\n<span style="font-size: 14px\;">Some restrictions may apply. Not valid with any other offer or insurance discounts.</span><br />\n<br />\n<strong><span style="font-size: 26px\;">&nbsp\;&nbsp\;</span></strong>&nbsp\;&nbsp\;&nbsp\;&nbsp\;&nbsp\;&nbsp\;<strong><span style="font-size: 26px\;">&nbsp\;&nbsp\;&nbsp\;&nbsp\;&nbsp\;&nbsp\;&nbsp\;&nbsp\;&nbsp\;&nbsp\;&nbsp\;&nbsp\;&nbsp\;&nbsp\;&nbsp\;&nbsp\;&nbsp\;&nbsp\;&nbsp\;&nbsp\;&nbsp\;&nbsp\;&nbsp\;&nbsp\;&nbsp\;&nbsp\;&nbsp\;&nbsp\;&nbsp\;&nbsp\;&nbsp\;&nbsp\;&nbsp\;&nbsp\;&nbsp\;&nbsp\;&nbsp\;&nbsp\;&nbsp\;&nbsp\;&nbsp\;&nbsp\;&nbsp\;&nbsp\;&nbsp\;&nbsp\;&nbsp\;&nbsp\;&nbsp\;&nbsp\;&nbsp\;&nbsp\;&nbsp\;&nbsp\; </span></strong></div>\n
LOCATION:Thomas Eye Care 1009 N Cummings Lane Washington\, IL 61571
UID:e.526.2825
SEQUENCE:3
DTSTAMP:20260424T215149Z
URL:https://business.epcc.org/events/details/fall-frame-show-50-off-10-20-2015-2825
END:VEVENT

END:VCALENDAR
