BEGIN:VCALENDAR
VERSION:2.0
PRODID:-//ChamberMaster//Event Calendar 2.0//EN
METHOD:PUBLISH
X-PUBLISHED-TTL:P3D
REFRESH-INTERVAL:P3D
CALSCALE:GREGORIAN
BEGIN:VEVENT
DTSTART:20190126T140000Z
DTEND:20190126T160000Z
X-MICROSOFT-CDO-ALLDAYEVENT:FALSE
SUMMARY:FamilyCore Frosty 5k
DESCRIPTION:Register online at familycore.org\n\nFor more information\, please contact Frank Disney at 309-676-2400 or email fdisney@familycore.org
X-ALT-DESC;FMTTYPE=text/html:Register online at familycore.org<br />\nFor more information\, please contact Frank Disney at 309-676-2400 or email fdisney@familycore.org
LOCATION:Peoria Riverfront
UID:e.526.5640
SEQUENCE:3
DTSTAMP:20260420T230836Z
URL:https://business.epcc.org/events/details/familycore-frosty-5k-5640
END:VEVENT

END:VCALENDAR
