BEGIN:VCALENDAR
VERSION:2.0
PRODID:-//ChamberMaster//Event Calendar 2.0//EN
METHOD:PUBLISH
X-PUBLISHED-TTL:P3D
REFRESH-INTERVAL:P3D
CALSCALE:GREGORIAN
BEGIN:VEVENT
DTSTART:20190503T220000Z
DTEND:20190504T000000Z
X-MICROSOFT-CDO-ALLDAYEVENT:FALSE
SUMMARY:FamilyCore Fundraiser: Bernardi's Pasta Palooza
DESCRIPTION:Help FamilyCore serve up a helping of fun at our PASTA PALOOZA Fundraiser\, to benefit our summer camps and other youth activities
X-ALT-DESC;FMTTYPE=text/html:Help FamilyCore serve up a helping of fun at our PASTA PALOOZA Fundraiser\, to benefit our summer camps and other youth activities
LOCATION:First English Lutheran Church 725 East Forrest Hill Avenue Peoria\, IL 61603
UID:e.526.5989
SEQUENCE:3
DTSTAMP:20260420T171415Z
URL:https://business.epcc.org/events/details/familycore-fundraiser-bernardi-s-pasta-palooza-5989
END:VEVENT

END:VCALENDAR
