BEGIN:VCALENDAR
VERSION:2.0
PRODID:-//ChamberMaster//Event Calendar 2.0//EN
METHOD:PUBLISH
X-PUBLISHED-TTL:P3D
REFRESH-INTERVAL:P3D
CALSCALE:GREGORIAN
BEGIN:VEVENT
DTSTART:20210811T160000Z
DTEND:20210811T230000Z
X-MICROSOFT-CDO-ALLDAYEVENT:FALSE
SUMMARY:FamilyCore Golf Outing in Memory of Debbie Ryva
DESCRIPTION:Join FamilyCore for our 22nd Annual Golf Outing in Memory of Debbie Ryva. The Golf Outing will be held at Pine Lakes Golf Club in Washington\, IL on Wednesday\, August 11\, 2021. Registration opens at 11am. Shotgun start begins at Noon - scramble format. We will have a steak dinner\, prizes and raffle items! \n\n\n\nFind more information on www.familycore.org/golf\n\n\n\nProceeds from this event benefit the programs of FamilyCore. \nJust as its name implies\, FamilyCore understands that strong families\, equipped with the tools and ties to succeed\, are at the heart of any vibrant\, tight-knit community. FamilyCore works with schools\, the court system and other social service agencies to connect counseling\, intervention\, preventative education and other support services with those who have a need.\n\nFamilyCore takes a holistic approach in its continuum of care\, often providing boosts of support to multiple generations. The end goal is to maintain the integrity of family\, however it may be defined.
X-ALT-DESC;FMTTYPE=text/html:Join FamilyCore for our 22nd Annual Golf Outing in Memory of Debbie Ryva. The Golf Outing will be held at Pine Lakes Golf Club in Washington\, IL on Wednesday\, August 11\, 2021. Registration opens at 11am. Shotgun start begins at Noon - scramble format. We will have a steak dinner\, prizes and raffle items!&nbsp\;<br />\n<br />\nFind more information on www.familycore.org/golf<br />\n<br />\nProceeds from this event benefit the programs of FamilyCore.&nbsp\;\n<p style="text-align:center">Just as its name implies\,&nbsp\;<strong>FamilyCore</strong>&nbsp\;understands that strong families\, equipped with the tools and ties to succeed\, are at the heart of any vibrant\, tight-knit community.&nbsp\;<strong>FamilyCore</strong>&nbsp\;works with schools\, the court system and other social service agencies to connect counseling\, intervention\, preventative education and other support services with those who have a need.</p>\n\n<p style="text-align:center"><strong>FamilyCore</strong>&nbsp\;takes a holistic approach in its continuum of care\, often providing boosts of support to multiple generations. The end goal is to maintain the integrity of family\, however it may be defined.</p>\n
LOCATION:Pine Lakes Golf Club Washington\, IL
UID:e.526.6722
SEQUENCE:3
DTSTAMP:20260421T155057Z
URL:https://business.epcc.org/events/details/familycore-golf-outing-in-memory-of-debbie-ryva-6722
END:VEVENT

END:VCALENDAR
