BEGIN:VCALENDAR
VERSION:2.0
PRODID:-//ChamberMaster//Event Calendar 2.0//EN
METHOD:PUBLISH
X-PUBLISHED-TTL:P3D
REFRESH-INTERVAL:P3D
CALSCALE:GREGORIAN
BEGIN:VEVENT
DTSTART:20180808T160000Z
DTEND:20180809T000000Z
X-MICROSOFT-CDO-ALLDAYEVENT:FALSE
SUMMARY:FamilyCore's 20th Annual Golf Outing
DESCRIPTION:FamilyCore's 20th Annual GOLF OUTING IN MEMORY OF DEBBIE RYVA\n\n\n\nRegistration: 11 am Shotgun Start: Noon Best Ball Format Join us for a steak dinner\, prizes and raffle items! Proceeds benefit the programs of FamilyCore.\n\n\n\nSend registrations to:\n\nFamilyCore\n\nATTN: Sharon Duffin\n\n300 SW Washington St.\n\nPeoria\, IL 61602\n\n\n\nPhone: 309-676-2400   Fax: 309-676-6022
X-ALT-DESC;FMTTYPE=text/html:FamilyCore&rsquo\;s 20th Annual GOLF OUTING IN MEMORY OF DEBBIE RYVA<br />\n<br />\nRegistration: 11 am Shotgun Start: Noon Best Ball Format Join us for a steak dinner\, prizes and raffle items! Proceeds benefit the programs of FamilyCore.<br />\n<br />\nSend registrations to:<br />\nFamilyCore<br />\nATTN: Sharon Duffin<br />\n300 SW Washington St.<br />\nPeoria\, IL 61602<br />\n<br />\nPhone: 309-676-2400 &bull\; Fax: 309-676-6022
LOCATION:Pine Lakes Country Club Washington\, Illinois
UID:e.526.5504
SEQUENCE:3
DTSTAMP:20260421T065512Z
URL:https://business.epcc.org/events/details/familycore-s-20th-annual-golf-outing-5504
END:VEVENT

END:VCALENDAR
