BEGIN:VCALENDAR
VERSION:2.0
PRODID:-//ChamberMaster//Event Calendar 2.0//EN
METHOD:PUBLISH
X-PUBLISHED-TTL:P3D
REFRESH-INTERVAL:P3D
CALSCALE:GREGORIAN
BEGIN:VEVENT
DTSTART:20190807T160000Z
DTEND:20190807T220000Z
X-MICROSOFT-CDO-ALLDAYEVENT:FALSE
SUMMARY:FamilyCore's 21st Annual Golf Outing in memory of Debbie Ryva
DESCRIPTION:Join us after golf for a steak dinner\, prizes and raffle items!\n\n\n\nProceeds benefit the programs of FamilyCore
X-ALT-DESC;FMTTYPE=text/html:Join us after golf for a steak dinner\, prizes and raffle items!<br />\n<br />\nProceeds benefit the programs of FamilyCore
LOCATION:Pine Lakes Country Club Washington\, IL
UID:e.526.5990
SEQUENCE:3
DTSTAMP:20260420T124526Z
URL:https://business.epcc.org/events/details/familycore-s-21st-annual-golf-outing-in-memory-of-debbie-ryva-5990
END:VEVENT

END:VCALENDAR
