BEGIN:VCALENDAR
VERSION:2.0
PRODID:-//ChamberMaster//Event Calendar 2.0//EN
METHOD:PUBLISH
X-PUBLISHED-TTL:P3D
REFRESH-INTERVAL:P3D
CALSCALE:GREGORIAN
BEGIN:VEVENT
DTSTART:20160929T220000Z
DTEND:20160930T020000Z
X-MICROSOFT-CDO-ALLDAYEVENT:FALSE
SUMMARY:Farm to Table Peoria
DESCRIPTION:Laura & Allen Cullinan cordially invite you to attend the inaugural Farm To Table Peoria fundraising evening benefitting the American Cancer Society and their partnership with Illinois Cancer Care Thursday\, September 29th.  As hosts\, we are limiting attendance to preserve the experience so act fast to reserve your spot!
X-ALT-DESC;FMTTYPE=text/html:<span style="font-size:12px\;"><span style="font-family:arial\;"><span style="color: rgb(0\, 0\, 0)\;">Laura &amp\; Allen Cullinan cordially invite you to attend the inaugural Farm To Table Peoria fundraising evening benefitting the American Cancer Society and their partnership with Illinois Cancer Care Thursday\, September </span><span style="color: rgb(0\, 0\, 0)\;">29</span><span style="vertical-align: text-top\; color: rgb(0\, 0\, 0)\;">th</span><span style="color: rgb(0\, 0\, 0)\;">.&nbsp\; As hosts\, we are limiting attendance to preserve the experience so act fast to reserve your spot!</span></span></span>
LOCATION:Farm to Table Peoria
UID:e.526.3251
SEQUENCE:3
DTSTAMP:20260422T225636Z
URL:https://business.epcc.org/events/details/farm-to-table-peoria-3251
END:VEVENT

END:VCALENDAR
