BEGIN:VCALENDAR
VERSION:2.0
PRODID:-//ChamberMaster//Event Calendar 2.0//EN
METHOD:PUBLISH
X-PUBLISHED-TTL:P3D
REFRESH-INTERVAL:P3D
CALSCALE:GREGORIAN
BEGIN:VEVENT
DTSTART:20160219T160000Z
DTEND:20160219T170000Z
X-MICROSOFT-CDO-ALLDAYEVENT:FALSE
SUMMARY:Federal Fidelity Bonding Program Informational for Veterans
DESCRIPTION:Federal Fidelity Bonding protects employers against employee dishonesty\, theft or embezzlement. Bonding assistance is available to employers who hire individuals with any of the following backgrounds: limited work history\; poor credit history\; a record of arrest\, conviction or imprisonment\; a dishonorable military discharge. This workshop serves as a way to educate job seekers how to market themselves using the Federal Bonding opportunity. A Letter of Explanation will also be provided to attendees as an additional tool.
X-ALT-DESC;FMTTYPE=text/html:Federal Fidelity Bonding protects employers against employee dishonesty\, theft or embezzlement. Bonding assistance is available to employers who hire individuals with any of the following backgrounds: limited work history\; poor credit history\; a record of arrest\, conviction or imprisonment\; a dishonorable military discharge. This workshop serves as a way to educate job seekers how to market themselves using the Federal Bonding opportunity. A Letter of Explanation will also be provided to attendees as an additional tool.
LOCATION:Goodwill Commons at 2319 E. War Memorial Dr.\, Peoria\, IL 61614
UID:e.526.2980
SEQUENCE:3
DTSTAMP:20260424T165956Z
URL:https://business.epcc.org/events/details/federal-fidelity-bonding-program-informational-for-veterans-02-19-2016-2980
END:VEVENT

END:VCALENDAR
