BEGIN:VCALENDAR
VERSION:2.0
PRODID:-//ChamberMaster//Event Calendar 2.0//EN
METHOD:PUBLISH
X-PUBLISHED-TTL:P3D
REFRESH-INTERVAL:P3D
CALSCALE:GREGORIAN
BEGIN:VEVENT
DTSTART:20181117T234500Z
DTEND:20181118T030000Z
X-MICROSOFT-CDO-ALLDAYEVENT:FALSE
SUMMARY:Festival of Lights Parade
DESCRIPTION:The Festival of Lights annual Parade of Lights covers two miles\, mainly along Washington Street and Taylor Street. The parade features floats shaped entirely from LED lights\, including Rudolph the Red-Nosed Reindeer\, the chopper motorcycle\, a 70-foot long float of the famous Clydesdale horse team pulling a delivery wagon\, Frosty the Snowman\, the starship Enterprise illuminated with 48\,000 lights\, and the 95-foot-long smoke-spewing China dragon.
X-ALT-DESC;FMTTYPE=text/html:<span style="color: rgb(0\, 0\, 0)\; font-family: Verdana\, Arial\, Helvetica\, sans-serif\; font-size: 11px\;">The Festival of Lights annual Parade of Lights covers two miles\, mainly along Washington Street and Taylor Street. The parade&nbsp\;features&nbsp\;floats shaped entirely from LED lights\, including&nbsp\;Rudolph the&nbsp\;Red-Nosed&nbsp\;Reindeer\, the chopper motorcycle\, a 70-foot long float of the famous Clydesdale horse team pulling a delivery wagon\, Frosty the Snowman\, the starship Enterprise illuminated with 48\,000 lights\, and the 95-foot-long smoke-spewing China dragon.</span>
LOCATION:Starts at intersection of East Washington Street and Dolans Lane in East Peoria
UID:e.526.5575
SEQUENCE:3
DTSTAMP:20260421T040353Z
URL:https://business.epcc.org/events/details/festival-of-lights-parade-5575
END:VEVENT

END:VCALENDAR
