BEGIN:VCALENDAR
VERSION:2.0
PRODID:-//ChamberMaster//Event Calendar 2.0//EN
METHOD:PUBLISH
X-PUBLISHED-TTL:P3D
REFRESH-INTERVAL:P3D
CALSCALE:GREGORIAN
BEGIN:VEVENT
DTSTART:20190420T140000Z
DTEND:20190420T170000Z
X-MICROSOFT-CDO-ALLDAYEVENT:FALSE
SUMMARY:First United Methodist Church Chocolate Faire
DESCRIPTION:Fill your Easter Baskets\n\n\n\nChocolate Goodies - Candies - Cakes - Cookies - Treats\n\n\n\nVendors: UMW Mini-bazaar crafts\n\nFlorals\, Totes\, Glass Fused Jewelry.\n\nHousehold cleaning supplies.\n\nBath\, Beauty\, Wellness & Pain Relief products.
X-ALT-DESC;FMTTYPE=text/html:Fill your Easter Baskets<br />\n<br />\nChocolate Goodies - Candies - Cakes - Cookies - Treats<br />\n<br />\nVendors: UMW Mini-bazaar crafts<br />\nFlorals\, Totes\, Glass Fused Jewelry.<br />\nHousehold cleaning supplies.<br />\nBath\, Beauty\, Wellness &amp\; Pain Relief products.
LOCATION:First United Methodist Church 154 E Washington St. East Peoria\, IL 61611 Presented by the United Methodist Women
UID:e.526.5998
SEQUENCE:3
DTSTAMP:20260420T183426Z
URL:https://business.epcc.org/events/details/first-united-methodist-church-chocolate-faire-5998
END:VEVENT

END:VCALENDAR
