BEGIN:VCALENDAR
VERSION:2.0
PRODID:-//ChamberMaster//Event Calendar 2.0//EN
METHOD:PUBLISH
X-PUBLISHED-TTL:P3D
REFRESH-INTERVAL:P3D
CALSCALE:GREGORIAN
BEGIN:VEVENT
DTSTART:20180714T230000Z
DTEND:20180715T030000Z
X-MICROSOFT-CDO-ALLDAYEVENT:FALSE
SUMMARY:First United Methodist Church Movie Night
DESCRIPTION:Family Movie Night at First United Methodist Church of East Peoria!\n\nJoin us for a great evening of fun and entertainment! We will be viewing Indiana Jones and the Raiders of the Lost Ark. There will be homemade ice cream and popcorn for all! Bring lawn chairs and blankets & Invite all your friends!
X-ALT-DESC;FMTTYPE=text/html:Family Movie Night at First United Methodist Church of East Peoria!<br />\nJoin us for a great evening of fun and entertainment! We will be viewing Indiana Jones and the Raiders of the Lost Ark. There will be homemade ice cream and popcorn for all! Bring lawn chairs and blankets &amp\; Invite all your friends!&nbsp\; &nbsp\;
LOCATION:First United Methodist Church of East Peoria 154 E. Washington Street East Peoria\, IL 61611
UID:e.526.5554
SEQUENCE:3
DTSTAMP:20260421T095754Z
URL:https://business.epcc.org/events/details/first-united-methodist-church-movie-night-5554
END:VEVENT

END:VCALENDAR
