BEGIN:VCALENDAR
VERSION:2.0
PRODID:-//ChamberMaster//Event Calendar 2.0//EN
METHOD:PUBLISH
X-PUBLISHED-TTL:P3D
REFRESH-INTERVAL:P3D
CALSCALE:GREGORIAN
BEGIN:VEVENT
DTSTART;VALUE=DATE:20231029
DTEND;VALUE=DATE:20231030
TRANSP:TRANSPARENT
X-MICROSOFT-CDO-ALLDAYEVENT:TRUE
SUMMARY:First United Methodist Church Trunk or Treat
DESCRIPTION:Come join the First United Methodist Church for Trunk or Treat. October 29\, 2023\, 2:00 pm - 4:00 pm
X-ALT-DESC;FMTTYPE=text/html:Come join the First United Methodist Church for Trunk or Treat. October 29\, 2023\, 2:00 pm - 4:00 pm
LOCATION:First United Methodist Church of East Peoria 154 E Washington St East Peoria\, IL 61611
UID:e.526.7301
SEQUENCE:3
DTSTAMP:20260422T062307Z
URL:https://business.epcc.org/events/details/first-united-methodist-church-trunk-or-treat-7301
END:VEVENT

END:VCALENDAR
