BEGIN:VCALENDAR
VERSION:2.0
PRODID:-//ChamberMaster//Event Calendar 2.0//EN
METHOD:PUBLISH
X-PUBLISHED-TTL:P3D
REFRESH-INTERVAL:P3D
CALSCALE:GREGORIAN
BEGIN:VEVENT
DTSTART:20191004T220000Z
DTEND:20191005T003000Z
X-MICROSOFT-CDO-ALLDAYEVENT:FALSE
SUMMARY:Fish Fry for Carol House of Hope
DESCRIPTION:Join the Center for Prevention of Abuse for our annual Fish Fry to benefit our Pekin emergency shelter\, the Carol House of Hope on Friday\, 10/4. \n\n\n\nWe'll be serving up fish\, fries\, and coleslaw at the PEKIN MOOSE LODGE 916 PEKIN\,IL. from 5-7:30 p.m. There will be delicious food\, homemade desserts\, a silent auction\, and more! \n\n\n\nTickets are $10 for adults and $5 for kids (we'll serve the kiddos hot dogs and fries)! You can pay at the door. Carry-out is available.\n\n\n\nWe hope to see you there!
X-ALT-DESC;FMTTYPE=text/html:<span style="color: rgb(29\, 33\, 41)\; font-family: Helvetica\, Arial\, sans-serif\; font-size: 14px\; white-space: pre-wrap\;">Join the Center for Prevention of Abuse for our annual Fish Fry to benefit our Pekin emergency shelter\, the Carol House of Hope on Friday\, 10/4. </span><br style="color: rgb(29\, 33\, 41)\; font-family: Helvetica\, Arial\, sans-serif\; font-size: 14px\; white-space: pre-wrap\;" />\n<br style="color: rgb(29\, 33\, 41)\; font-family: Helvetica\, Arial\, sans-serif\; font-size: 14px\; white-space: pre-wrap\;" />\n<span style="color: rgb(29\, 33\, 41)\; font-family: Helvetica\, Arial\, sans-serif\; font-size: 14px\; white-space: pre-wrap\;">We&#39\;ll be serving up fish\, fries\, and coleslaw at the </span><a href="https://www.facebook.com/pekinmooselodge/" style="color: rgb(56\, 88\, 152)\; cursor: pointer\; text-decoration-line: none\; font-family: Helvetica\, Arial\, sans-serif\; font-size: 14px\; white-space: pre-wrap\;" target="_blank">PEKIN MOOSE LODGE 916 PEKIN\,IL.</a><span style="color: rgb(29\, 33\, 41)\; font-family: Helvetica\, Arial\, sans-serif\; font-size: 14px\; white-space: pre-wrap\;"> from 5-7:30 p.m. There will be delicious food\, homemade desserts\, a silent auction\, and more! </span><br style="color: rgb(29\, 33\, 41)\; font-family: Helvetica\, Arial\, sans-serif\; font-size: 14px\; white-space: pre-wrap\;" />\n<br style="color: rgb(29\, 33\, 41)\; font-family: Helvetica\, Arial\, sans-serif\; font-size: 14px\; white-space: pre-wrap\;" />\n<span style="color: rgb(29\, 33\, 41)\; font-family: Helvetica\, Arial\, sans-serif\; font-size: 14px\; white-space: pre-wrap\;">Tickets are $10 for adults and $5 for kids (we&#39\;ll serve the kiddos hot dogs and fries)! You can pay at the door. Carry-out is available.</span><br style="color: rgb(29\, 33\, 41)\; font-family: Helvetica\, Arial\, sans-serif\; font-size: 14px\; white-space: pre-wrap\;" />\n<br style="color: rgb(29\, 33\, 41)\; font-family: Helvetica\, Arial\, sans-serif\; font-size: 14px\; white-space: pre-wrap\;" />\n<span style="color: rgb(29\, 33\, 41)\; font-family: Helvetica\, Arial\, sans-serif\; font-size: 14px\; white-space: pre-wrap\;">We hope to see you there!</span>
LOCATION:
UID:e.526.6202
SEQUENCE:3
DTSTAMP:20260420T111549Z
URL:https://business.epcc.org/events/details/fish-fry-for-carol-house-of-hope-6202
END:VEVENT

END:VCALENDAR
