BEGIN:VCALENDAR
VERSION:2.0
PRODID:-//ChamberMaster//Event Calendar 2.0//EN
METHOD:PUBLISH
X-PUBLISHED-TTL:P3D
REFRESH-INTERVAL:P3D
CALSCALE:GREGORIAN
BEGIN:VEVENT
DTSTART:20161111T230000Z
DTEND:20161112T010000Z
X-MICROSOFT-CDO-ALLDAYEVENT:FALSE
SUMMARY:Fish Fry to Benefit the Carol House of Hope
DESCRIPTION:Come out for a fish fry and all the fixings to support the Carol House of Hope in Pekin. The Carol House of Hope is one of two emergency domestic violence shelters operated by The Center for Prevention of Abuse.
X-ALT-DESC;FMTTYPE=text/html:Come out for a fish fry and all the fixings to support the Carol House of Hope in Pekin. The Carol House of Hope is one of two emergency domestic violence shelters operated by The Center for Prevention of Abuse.
LOCATION:Moose Lodge\, 2605 Broadway St\, Pekin
UID:e.526.3273
SEQUENCE:3
DTSTAMP:20260422T170845Z
URL:https://business.epcc.org/events/details/fish-fry-to-benefit-the-carol-house-of-hope-3273
END:VEVENT

END:VCALENDAR
