BEGIN:VCALENDAR
VERSION:2.0
PRODID:-//ChamberMaster//Event Calendar 2.0//EN
METHOD:PUBLISH
X-PUBLISHED-TTL:P3D
REFRESH-INTERVAL:P3D
CALSCALE:GREGORIAN
BEGIN:VEVENT
DTSTART:20200619T230000Z
DTEND:20200620T030000Z
X-MICROSOFT-CDO-ALLDAYEVENT:FALSE
SUMMARY:Five Points Fridays presents an outdoor acoustic concert by Black Velvet
DESCRIPTION:Five Points Fridays\, a series of free outdoor concerts\, will present its next show in the series with a performance by Peoria-based act Black Velvet on June 19.\n\nGates open at 5:30 pm\, and the performance is scheduled to begin at 6 pm. The event will be held in the new Five Points Washington outdoor patio and adjacent parking lot area\, located on the south end of the facility. A food truck and a cash bar will be available.\n\nBlack Velvet is comprised of husband-and-wife duo Billy Kocher and Ami Lynne. The pair offers an extensive\, wide-ranging catalog of music from a wide variety of artists\, including P!nk\, The Police\, The Beatles\, lovelytheband\, The Rolling Stones and others. This duo presents a family-friendly performance offering something for everyone without being uncomfortably loud.\n\nAll performances in the Five Points Fridays series are free and open to the public\; tickets are not required but\, for planning purposes\, attendees are encouraged to indicate they will attend in the individual Facebook event listings on the Live at Five Points Facebook page. Masks are not required by attendees as along as social distancing can be maintained. Limited seating and tables will be provided while adhering to social distancing guidelines\, but attendees are encouraged to bring lawn chairs.\n\nOther events in the Five Points Fridays series include:\n\nJune 26   Pocket Mouse (acoustic pop)\n\nJuly 10   Neal Bowling (eclectic acoustic)\n\nJuly 24   Kickin' & Pickin' (rock and bluegrass)\n\nAugust 14   Chase Sieting (acoustic rock)\n\nAugust 21   Black Velvet\n\nSeptember 25   Top 4D (acoustic pop music)\n\nOctober 16   Kickin' & Pickin' (eclectic acoustic)\n\nThe Five Points Fridays series of music performance events is made possible by sponsorships from: headline sponsor MTCO Communications\; Live@Five sponsors Uftring Automotive\, Washington Community Bank\, Ameren Illinois\, Trane\, I Do Events\, Create A Scene\; and silver sponsor Edward Jones   Nicole Miller Agency.\n\n\n\nFive Points Washington opened in 2007 and is a self-sustaining\, not-for-profit complex that uses fitness center user fees\, rental revenue\, and event admission sales to finance day-to-day operations. In addition to its new outdoor event space\, the facility houses a 1\,020-seat performing arts center\, event/banquet/meeting rooms\, a fitness center/gym and an aquatics center.\n\nA full listing of events in the is available on the Live at Five Points Facebook page or by visiting FivePointsWashington.org. For more information\, call (309) 444-8222.
X-ALT-DESC;FMTTYPE=text/html:<p>Five Points Fridays\, a series of free outdoor concerts\, will present its next show in the series with a performance by Peoria-based act Black Velvet on June 19.</p>\n\n<p>Gates open at 5:30 pm\, and the performance is scheduled to begin at 6 pm. The event will be held in the new Five Points Washington outdoor patio and adjacent parking lot area\, located on the south end of the facility. A food truck and a cash bar will be available.</p>\n\n<p>Black Velvet is comprised of husband-and-wife duo Billy Kocher and Ami Lynne. The pair offers an extensive\, wide-ranging catalog of music from a wide variety of artists\, including P!nk\, The Police\, The Beatles\, lovelytheband\, The Rolling Stones and others. This duo presents a family-friendly performance offering something for everyone without being uncomfortably loud.</p>\n\n<p>All performances in the Five Points Fridays series are free and open to the public\; tickets are not required but\, for planning purposes\, attendees are encouraged to indicate they will attend in the individual Facebook event listings on the Live at Five Points Facebook page. Masks are not required by attendees as along as social distancing can be maintained. Limited seating and tables will be provided while adhering to social distancing guidelines\, but attendees are encouraged to bring lawn chairs.</p>\n\n<p>Other events in the Five Points Fridays series include:<br />\nJune 26 &ndash\; Pocket Mouse (acoustic pop)<br />\nJuly 10 &ndash\; Neal Bowling (eclectic acoustic)<br />\nJuly 24 &ndash\; Kickin&rsquo\; &amp\; Pickin&rsquo\; (rock and bluegrass)<br />\nAugust 14 &ndash\; Chase Sieting (acoustic rock)<br />\nAugust 21 &ndash\; Black Velvet<br />\nSeptember 25 &ndash\; Top 4D (acoustic pop music)<br />\nOctober 16 &ndash\; Kickin&rsquo\; &amp\; Pickin&rsquo\; (eclectic acoustic)</p>\n\n<p>The Five Points Fridays series of music performance events is made possible by sponsorships from: headline sponsor MTCO Communications\; Live@Five sponsors Uftring Automotive\, Washington Community Bank\, Ameren Illinois\, Trane\, I Do Events\, Create A Scene\; and silver sponsor Edward Jones &ndash\; Nicole Miller Agency.<br />\n<br />\nFive Points Washington opened in 2007 and is a self-sustaining\, not-for-profit complex that uses fitness center user fees\, rental revenue\, and event admission sales to finance day-to-day operations. In addition to its new outdoor event space\, the facility houses a 1\,020-seat performing arts center\, event/banquet/meeting rooms\, a fitness center/gym and an aquatics center.</p>\n\n<p>A full listing of events in the is available on the Live at Five Points Facebook page or by visiting FivePointsWashington.org. For more information\, call (309) 444-8222.</p>\n
LOCATION:Five Points Washington - outdoor patio area and adjacent parking lot (located on the south end of the facility) 360 N. Wilmor Road Washington\, IL
UID:e.526.6428
SEQUENCE:3
DTSTAMP:20260420T201419Z
URL:https://business.epcc.org/events/details/five-points-fridays-presents-an-outdoor-acoustic-concert-by-black-velvet-6428
END:VEVENT

END:VCALENDAR
